Workbook
Name levetid: Tabell33[Total analyseperiode]
Name levetid: Tabell33[Total analyseperiode]
Name levetid: #REF!
Name Passasjerøkning: Eksempel!$C$47
Name Passasjerøkning: 'Eksempel utd. lav-høy'!$C$44
Name Passasjerøkning: #REF!
Name Verdiøkning: Eksempel!$C$46
Name Verdiøkning: 'Eksempel utd. lav-høy'!$C$43
Name Verdiøkning: #REF!
Name x: Eksempel!$C$48
Name x: 'Eksempel utd. lav-høy'!$C$45
Name x: #REF!
Name y: Eksempel!$C$50:$C$50

Sheet Eksempel
C1: År i analyseperioden | D1: Rente
C2: 40 | D2: 0.04 | F2: Total analyseperiode
C3: 75 | D3: 0.03 | F3: =COUNT(C7:BY7) -> 75
C4: 75- | D4: 0.02
B6: År | C6: 2022 | D6: 2023 | E6: 2024 | F6: 2025 | G6: 2026 | H6: 2027 | I6: 2028 | J6: 2029 | K6: 2030 | L6: 2031 | M6: 2032 | N6: 2033 | O6: 2034 | P6: 2035 | Q6: 2036 | R6: 2037 | S6: 2038 | T6: 2039 | U6: 2040 | V6: 2041 | W6: 2042 | X6: 2043 | Y6: 2044 | Z6: 2045 | AA6: 2046 | AB6: 2047 | AC6: 2048 | AD6: 2049 | AE6: 2050 | AF6: 2051 | AG6: 2052 | AH6: 2053 | AI6: 2054 | AJ6: 2055 | AK6: 2056 | AL6: 2057 | AM6: 2058 | AN6: 2059 | AO6: 2060 | AP6: 2061 | AQ6: 2062 | AR6: 2063 | AS6: 2064 | AT6: 2065 | AU6: 2066 | AV6: 2067 | AW6: 2068 | AX6: 2069 | AY6: 2070 | AZ6: 2071 | BA6: 2072 | BB6: 2073 | BC6: 2074 | BD6: 2075 | BE6: 2076 | BF6: 2077 | BG6: 2078 | BH6: 2079 | BI6: 2080 | BJ6: 2081 | BK6: 2082 | BL6: 2083 | BM6: 2084 | BN6: 2085 | BO6: 2086 | BP6: 2087 | BQ6: 2088 | BR6: 2089 | BS6: 2090 | BT6: 2091 | BU6: 2092 | BV6: 2093 | BW6: 2094 | BX6: 2095 | BY6: 2096
B7: Prosjektalder | C7: 0 | D7: =C7+1 -> 1 | E7: =D7+1 -> 2 | F7: =E7+1 -> 3 | G7: =F7+1 -> 4 | H7: =G7+1 -> 5 | I7: =H7+1 -> 6 | J7: =I7+1 -> 7 | K7: =J7+1 -> 8 | ... BY7: =BX7+1 -> 74
B8: Rente | C8: 0 | D8: =IF(D7<=$C$2,$D$2,IF(D7<=$C$3,$D$3,$D$4)) -> 0.04 | E8: =IF(E7<=$C$2,$D$2,IF(E7<=$C$3,$D$3,$D$4)) -> 0.04 | F8: =IF(F7<=$C$2,$D$2,IF(F7<=$C$3,$D$3,$D$4)) -> 0.04 | G8: =IF(G7<=$C$2,$D$2,IF(G7<=$C$3,$D$3,$D$4)) -> 0.04 | H8: =IF(H7<=$C$2,$D$2,IF(H7<=$C$3,$D$3,$D$4)) -> 0.04 | I8: =IF(I7<=$C$2,$D$2,IF(I7<=$C$3,$D$3,$D$4)) -> 0.04 | J8: =IF(J7<=$C$2,$D$2,IF(J7<=$C$3,$D$3,$D$4)) -> 0.04 | K8: =IF(K7<=$C$2,$D$2,IF(K7<=$C$3,$D$3,$D$4)) -> 0.04 | ... BY8: =IF(BY7<=$C$2,$D$2,IF(BY7<=$C$3,$D$3,$D$4)) -> 0.03
B9: 1+ rente | C9: =1+C8 -> 1 | D9: =1+D8 -> 1.04 | E9: =1+E8 -> 1.04 | F9: =1+F8 -> 1.04 | G9: =1+G8 -> 1.04 | H9: =1+H8 -> 1.04 | I9: =1+I8 -> 1.04 | J9: =1+J8 -> 1.04 | ... BY9: =1+BY8 -> 1.03
B10: Diskonteringsfaktor | C10: =C9 -> 1 | D10: =C10*D9 -> 1.04 | E10: =D10*E9 -> 1.0816 | F10: =E10*F9 -> 1.124864 | G10: =F10*G9 -> 1.1698586 | H10: =G10*H9 -> 1.2166529 | I10: =H10*I9 -> 1.265319 | J10: =I10*J9 -> 1.3159318 | K10: =J10*K9 -> 1.3685691 | ... BY10: =BX10*BY9 -> 13.115934
B11: 1/diskonteringsfaktor | C11: =1/C10 -> 1 | D11: =1/D10 -> 0.96153846 | E11: =1/E10 -> 0.92455621 | F11: =1/F10 -> 0.88899636 | G11: =1/G10 -> 0.85480419 | H11: =1/H10 -> 0.82192711 | I11: =1/I10 -> 0.79031453 | J11: =1/J10 -> 0.75991781 | ... BY11: =1/BY10 -> 0.076243142
B13: Utslipp og prisbaner som skal benyttes
B14: Utslipp, CO2-ekvivalenter - antatt, ikke regnet ut i arket | C14: 0 | D14: 0 | E14: 0 | F14: 0 | G14: 24.305515 | H14: 23.673085 | I14: 23.049104 | J14: 22.390055 | K14: 21.741968 | L14: 21.1052 | M14: 20.479031 | N14: 19.863241 | O14: 19.25752 | P14: 18.661568 | Q14: 18.075091 | R14: 17.497727 | S14: 16.929511 | T14: 16.36971 | U14: 15.81837 | V14: 15.290227 | W14: 14.768916 | X14: 14.254281 | Y14: 13.745921 | Z14: 13.243819 | AA14: 12.747709 | AB14: 12.257395 | AC14: 11.772734 | AD14: 11.293382 | AE14: 10.819312 | AF14: 10.847851 | AG14: 10.860702 | AH14: 10.874835 | AI14: 10.890228 | AJ14: 10.906854 | AK14: 10.924682 | AL14: 10.943677 | AM14: 10.9638 | AN14: 10.985008 | AO14: 11.007257 | AP14: 11.030499 | AQ14: 11.054684 | AR14: 11.079764 | AS14: 11.105686 | AT14: 11.132398 | AU14: 11.159851 | AV14: 11.187994 | AW14: 11.216778 | AX14: 11.246157 | AY14: 11.276086 | AZ14: 11.306524 | BA14: 11.337433 | BB14: 11.368778 | BC14: 11.40053 | BD14: 11.432662 | BE14: 11.465154 | BF14: 11.497989 | BG14: 11.531156 | BH14: 11.564649 | BI14: 11.598468 | BJ14: 11.632618 | BK14: 11.667109 | BL14: 11.701957 | BM14: 11.737183 | BN14: 11.772813 | BO14: 11.808878 | BP14: 11.845415 | BQ14: 11.882463 | BR14: 11.920067 | BS14: 11.958277 | BT14: 11.997143 | BU14: 12.036722 | BV14: 12.077073 | BW14: 12.118256 | BX14: 12.160336 | BY14: 12.203379
B15: Hovedkarbonprisbane | C15: =VLOOKUP(C6,Prisbaner!$A$7:$C$85,3,FALSE) -> 766 | D15: =VLOOKUP(D6,Prisbaner!$A$7:$C$85,3,FALSE) -> 931 | E15: =VLOOKUP(E6,Prisbaner!$A$7:$C$85,3,FALSE) -> 1095 | F15: =VLOOKUP(F6,Prisbaner!$A$7:$C$85,3,FALSE) -> 1260 | G15: =VLOOKUP(G6,Prisbaner!$A$7:$C$85,3,FALSE) -> 1424 | H15: =VLOOKUP(H6,Prisbaner!$A$7:$C$85,3,FALSE) -> 1589 | I15: =VLOOKUP(I6,Prisbaner!$A$7:$C$85,3,FALSE) -> 1754 | J15: =VLOOKUP(J6,Prisbaner!$A$7:$C$85,3,FALSE) -> 1918 | ... BY15: =VLOOKUP(BY6,Prisbaner!$A$7:$C$85,3,FALSE) -> 8095
B16: Lav karbonprisbane | C16: =VLOOKUP(C6,Prisbaner!$A$7:$I$85,8,FALSE) -> 461 | D16: =VLOOKUP(D6,Prisbaner!$A$7:$I$85,8,FALSE) -> 457 | E16: =VLOOKUP(E6,Prisbaner!$A$7:$I$85,8,FALSE) -> 455 | F16: =VLOOKUP(F6,Prisbaner!$A$7:$I$85,8,FALSE) -> 454 | G16: =VLOOKUP(G6,Prisbaner!$A$7:$I$85,8,FALSE) -> 455 | H16: =VLOOKUP(H6,Prisbaner!$A$7:$I$85,8,FALSE) -> 455 | I16: =VLOOKUP(I6,Prisbaner!$A$7:$I$85,8,FALSE) -> 455 | J16: =VLOOKUP(J6,Prisbaner!$A$7:$I$85,8,FALSE) -> 455 | ... BY16: =VLOOKUP(BY6,Prisbaner!$A$7:$I$85,8,FALSE) -> 4190
B17: Høy karbonprisbane | C17: =VLOOKUP(C6,Prisbaner!$A$7:$I$85,9,FALSE) -> 1200 | D17: =VLOOKUP(D6,Prisbaner!$A$7:$I$85,9,FALSE) -> 1311 | E17: =VLOOKUP(E6,Prisbaner!$A$7:$I$85,9,FALSE) -> 1433 | F17: =VLOOKUP(F6,Prisbaner!$A$7:$I$85,9,FALSE) -> 1566 | G17: =VLOOKUP(G6,Prisbaner!$A$7:$I$85,9,FALSE) -> 1711 | H17: =VLOOKUP(H6,Prisbaner!$A$7:$I$85,9,FALSE) -> 1870 | I17: =VLOOKUP(I6,Prisbaner!$A$7:$I$85,9,FALSE) -> 2044 | J17: =VLOOKUP(J6,Prisbaner!$A$7:$I$85,9,FALSE) -> 2233 | ... BY17: =VLOOKUP(BY6,Prisbaner!$A$7:$I$85,9,FALSE) -> 33871
B18: Break even prisbane (x * hovedkarbonprisbane) | C18: =x*C15 -> 1193.2036 | D18: =x*D15 -> 1450.2252 | E18: =x*E15 -> 1705.6892 | F18: =x*F15 -> 1962.7108 | G18: =x*G15 -> 2218.1748 | H18: =x*H15 -> 2475.1964 | I18: =x*I15 -> 2732.2181 | J18: =x*J15 -> 2987.682 | ... BY18: =x*BY15 -> 12609.638
B19: Konstant break even-bane | C19: {=y} -> 3832.6963 | D19: {=y} -> 3832.6963 | E19: {=y} -> 3832.6963 | F19: {=y} -> 3832.6963 | G19: {=y} -> 3832.6963 | H19: {=y} -> 3832.6963 | I19: {=y} -> 3832.6963 | J19: {=y} -> 3832.6963 | ... BY19: {=y} -> 3832.6963
B21: Årlige verdier
B22: Årlig utslippskostnad ved hovedbanen | C22: =C14*C15 -> 0 | D22: =D14*D15 -> 0 | E22: =E14*E15 -> 0 | F22: =F14*F15 -> 0 | G22: =G14*G15 -> 34611.053 | H22: =H14*H15 -> 37616.532 | I22: =I14*I15 -> 40428.128 | J22: =J14*J15 -> 42944.126 | ... BY22: =BY14*BY15 -> 98786.35
B23: Årlig utslippskostnad ved lav bane | C23: =C14*C16 -> 0 | D23: =D14*D16 -> 0 | E23: =E14*E16 -> 0 | F23: =F14*F16 -> 0 | G23: =G14*G16 -> 11059.009 | H23: =H14*H16 -> 10771.254 | I23: =I14*I16 -> 10487.342 | J23: =J14*J16 -> 10187.475 | ... BY23: =BY14*BY16 -> 51132.156
B24: Årlig utslippskostnad ved høy bane | C24: =C14*C17 -> 0 | D24: =D14*D17 -> 0 | E24: =E14*E17 -> 0 | F24: =F14*F17 -> 0 | G24: =G14*G17 -> 41586.736 | H24: =H14*H17 -> 44268.669 | I24: =I14*I17 -> 47112.368 | J24: =J14*J17 -> 49996.993 | ... BY24: =BY14*BY17 -> 413340.64
B25: Årlig utslippskostnad ved break even-banen | C25: =C$14*C$18 -> 0 | D25: =D$14*D$18 -> 0 | E25: =E$14*E$18 -> 0 | F25: =F$14*F$18 -> 0 | G25: =G$14*G$18 -> 53913.88 | H25: =H$14*H$18 -> 58595.535 | I25: =I$14*I$18 -> 62975.178 | J25: =J$14*J$18 -> 66894.366 | ... BY25: =BY$14*BY$18 -> 153880.19
B26: Årlig utslippskostnad ved konstant break even-bane | C26: =C$14*C$19 -> 0 | D26: =D$14*D$19 -> 0 | E26: =E$14*E$19 -> 0 | F26: =F$14*F$19 -> 0 | G26: =G$14*G$19 -> 93155.658 | H26: =H$14*H$19 -> 90731.746 | I26: =I$14*I$19 -> 88340.215 | J26: =J$14*J$19 -> 85814.283 | ... BY26: =BY$14*BY$19 -> 46771.845
B28: Diskonterte årlige verdier
B29: Diskontert årlig utslippskostnad ved hovedbanen | C29: =C22*C$11 -> 0 | D29: =D22*D11 -> 0 | E29: =E22*E11 -> 0 | F29: =F22*F11 -> 0 | G29: =G22*G11 -> 29585.673 | H29: =H22*H11 -> 30918.047 | I29: =I22*I11 -> 31950.937 | J29: =J22*J11 -> 32634.006 | K29: =K22*K11 -> 33091.878 | ... BY29: =BY22*BY11 -> 7531.7818
B30: Diskontert årlig utslippskostnad ved lav bane | C30: =C23*C$11 -> 0 | D30: =D23*D$11 -> 0 | E30: =E23*E$11 -> 0 | F30: =F23*F$11 -> 0 | G30: =G23*G$11 -> 9453.2875 | H30: =H23*H$11 -> 8853.1853 | I30: =I23*I$11 -> 8288.2989 | J30: =J23*J$11 -> 7741.6438 | ... BY30: =BY23*BY$11 -> 3898.4763
B31: Diskontert årlig utslippskostnad ved høy bane | C31: =C24*C$11 -> 0 | D31: =D24*D$11 -> 0 | E31: =E24*E$11 -> 0 | F31: =F24*F$11 -> 0 | G31: =G24*G$11 -> 35548.516 | H31: =H24*H$11 -> 36385.619 | I31: =I24*I$11 -> 37233.589 | J31: =J24*J$11 -> 37993.606 | ... BY31: =BY24*BY$11 -> 31514.389
B32: Diskontert årlig utslippskostnad ved break even-banen | C32: =C25*C$11 -> 0 | D32: =D25*D$11 -> 0 | E32: =E25*E$11 -> 0 | F32: =F25*F$11 -> 0 | G32: =G25*G$11 -> 46085.811 | H32: =H25*H$11 -> 48161.259 | I32: =I25*I$11 -> 49770.198 | J32: =J25*J$11 -> 50834.22 | ... BY32: =BY25*BY$11 -> 11732.309
B33: Diskontert årlig utslippskostnad ved konstant break even | C33: =C26*C$11 -> 0 | D33: =D26*D$11 -> 0 | E33: =E26*E$11 -> 0 | F33: =F26*F$11 -> 0 | G33: =G26*G$11 -> 79629.847 | H33: =H26*H$11 -> 74574.881 | I33: =I26*I$11 -> 69816.555 | J33: =J26*J$11 -> 65211.802 | ... BY33: =BY26*BY$11 -> 3566.0324
B37: Nåverdi prissatte virkninger - antatt, ikke regnet ut i arket | C37: -1300000
C40: Nåverdi utslipp | D40: Netto SØ nytte
B41: Verdi ved hovedbanen | C41: =SUM(C29:BY29) -> 834560.02 | D41: =C41+C$37 -> -465439.98
B42: Verdi ved lav bane | C42: =SUM(C30:BY30) -> 320212.69 | D42: =C42+C$37 -> -979787.31
B43: Verdi ved høy bane | C43: =SUM(C31:BY31) -> 2351262.4 | D43: =C43+C$37 -> 1051262.4
B44: Verdi ved break even-banen | C44: =SUM(C32:BY32) -> 1300000 | D44: =C44+C$37 -> 0
B45: Verdi ved konstant break even | C45: =SUM(C33:BY33) -> 1300000 | D45: =C45+C$37 -> 0
B48: x ved målsøk | C48: 1.557707
B49: x regnet ved formelen | C49: =-C37/C41 -> 1.557707
B50: Den konstante break even-banen (tiltakskostnaden) | C50: 3832.6963

Sheet Eksempel utd. lav-høy
C1: År i analyseperioden | D1: Rente
C2: 40 | D2: 0.04 | F2: Total analyseperiode
C3: 75 | D3: 0.03 | F3: =COUNT(C7:BY7) -> 75
C4: 75- | D4: 0.02
B6: År | C6: 2022 | D6: 2023 | E6: 2024 | F6: 2025 | G6: 2026 | H6: 2027 | I6: 2028 | J6: 2029 | K6: 2030 | L6: 2031 | M6: 2032 | N6: 2033 | O6: 2034 | P6: 2035 | Q6: 2036 | R6: 2037 | S6: 2038 | T6: 2039 | U6: 2040 | V6: 2041 | W6: 2042 | X6: 2043 | Y6: 2044 | Z6: 2045 | AA6: 2046 | AB6: 2047 | AC6: 2048 | AD6: 2049 | AE6: 2050 | AF6: 2051 | AG6: 2052 | AH6: 2053 | AI6: 2054 | AJ6: 2055 | AK6: 2056 | AL6: 2057 | AM6: 2058 | AN6: 2059 | AO6: 2060 | AP6: 2061 | AQ6: 2062 | AR6: 2063 | AS6: 2064 | AT6: 2065 | AU6: 2066 | AV6: 2067 | AW6: 2068 | AX6: 2069 | AY6: 2070 | AZ6: 2071 | BA6: 2072 | BB6: 2073 | BC6: 2074 | BD6: 2075 | BE6: 2076 | BF6: 2077 | BG6: 2078 | BH6: 2079 | BI6: 2080 | BJ6: 2081 | BK6: 2082 | BL6: 2083 | BM6: 2084 | BN6: 2085 | BO6: 2086 | BP6: 2087 | BQ6: 2088 | BR6: 2089 | BS6: 2090 | BT6: 2091 | BU6: 2092 | BV6: 2093 | BW6: 2094 | BX6: 2095 | BY6: 2096
B7: Prosjektalder | C7: 0 | D7: =C7+1 -> 1 | E7: =D7+1 -> 2 | F7: =E7+1 -> 3 | G7: =F7+1 -> 4 | H7: =G7+1 -> 5 | I7: =H7+1 -> 6 | J7: =I7+1 -> 7 | K7: =J7+1 -> 8 | ... BY7: =BX7+1 -> 74
B8: Rente | C8: 0 | D8: =IF(D7<=$C$2,$D$2,IF(D7<=$C$3,$D$3,$D$4)) -> 0.04 | E8: =IF(E7<=$C$2,$D$2,IF(E7<=$C$3,$D$3,$D$4)) -> 0.04 | F8: =IF(F7<=$C$2,$D$2,IF(F7<=$C$3,$D$3,$D$4)) -> 0.04 | G8: =IF(G7<=$C$2,$D$2,IF(G7<=$C$3,$D$3,$D$4)) -> 0.04 | H8: =IF(H7<=$C$2,$D$2,IF(H7<=$C$3,$D$3,$D$4)) -> 0.04 | I8: =IF(I7<=$C$2,$D$2,IF(I7<=$C$3,$D$3,$D$4)) -> 0.04 | J8: =IF(J7<=$C$2,$D$2,IF(J7<=$C$3,$D$3,$D$4)) -> 0.04 | K8: =IF(K7<=$C$2,$D$2,IF(K7<=$C$3,$D$3,$D$4)) -> 0.04 | ... BY8: =IF(BY7<=$C$2,$D$2,IF(BY7<=$C$3,$D$3,$D$4)) -> 0.03
B9: 1+ rente | C9: =1+C8 -> 1 | D9: =1+D8 -> 1.04 | E9: =1+E8 -> 1.04 | F9: =1+F8 -> 1.04 | G9: =1+G8 -> 1.04 | H9: =1+H8 -> 1.04 | I9: =1+I8 -> 1.04 | J9: =1+J8 -> 1.04 | ... BY9: =1+BY8 -> 1.03
B10: Diskonteringsfaktor | C10: =C9 -> 1 | D10: =C10*D9 -> 1.04 | E10: =D10*E9 -> 1.0816 | F10: =E10*F9 -> 1.124864 | G10: =F10*G9 -> 1.1698586 | H10: =G10*H9 -> 1.2166529 | I10: =H10*I9 -> 1.265319 | J10: =I10*J9 -> 1.3159318 | K10: =J10*K9 -> 1.3685691 | ... BY10: =BX10*BY9 -> 13.115934
B11: 1/diskonteringsfaktor | C11: =1/C10 -> 1 | D11: =1/D10 -> 0.96153846 | E11: =1/E10 -> 0.92455621 | F11: =1/F10 -> 0.88899636 | G11: =1/G10 -> 0.85480419 | H11: =1/H10 -> 0.82192711 | I11: =1/I10 -> 0.79031453 | J11: =1/J10 -> 0.75991781 | ... BY11: =1/BY10 -> 0.076243142
B13: Utslipp og prisbaner som skal benyttes
B14: Utslipp, CO2-ekvivalenter - antatt, ikke regnet ut i arket | C14: 0 | D14: 0 | E14: 0 | F14: 0 | G14: 24.305515 | H14: 23.673085 | I14: 23.049104 | J14: 22.390055 | K14: 21.741968 | L14: 21.1052 | M14: 20.479031 | N14: 19.863241 | O14: 19.25752 | P14: 18.661568 | Q14: 18.075091 | R14: 17.497727 | S14: 16.929511 | T14: 16.36971 | U14: 15.81837 | V14: 15.290227 | W14: 14.768916 | X14: 14.254281 | Y14: 13.745921 | Z14: 13.243819 | AA14: 12.747709 | AB14: 12.257395 | AC14: 11.772734 | AD14: 11.293382 | AE14: 10.819312 | AF14: 10.847851 | AG14: 10.860702 | AH14: 10.874835 | AI14: 10.890228 | AJ14: 10.906854 | AK14: 10.924682 | AL14: 10.943677 | AM14: 10.9638 | AN14: 10.985008 | AO14: 11.007257 | AP14: 11.030499 | AQ14: 11.054684 | AR14: 11.079764 | AS14: 11.105686 | AT14: 11.132398 | AU14: 11.159851 | AV14: 11.187994 | AW14: 11.216778 | AX14: 11.246157 | AY14: 11.276086 | AZ14: 11.306524 | BA14: 11.337433 | BB14: 11.368778 | BC14: 11.40053 | BD14: 11.432662 | BE14: 11.465154 | BF14: 11.497989 | BG14: 11.531156 | BH14: 11.564649 | BI14: 11.598468 | BJ14: 11.632618 | BK14: 11.667109 | BL14: 11.701957 | BM14: 11.737183 | BN14: 11.772813 | BO14: 11.808878 | BP14: 11.845415 | BQ14: 11.882463 | BR14: 11.920067 | BS14: 11.958277 | BT14: 11.997143 | BU14: 12.036722 | BV14: 12.077073 | BW14: 12.118256 | BX14: 12.160336 | BY14: 12.203379
B15: Hovedkarbonprisbane | C15: =VLOOKUP(C6,Prisbaner!$A$7:$C$85,3,FALSE) -> 766 | D15: =VLOOKUP(D6,Prisbaner!$A$7:$C$85,3,FALSE) -> 931 | E15: =VLOOKUP(E6,Prisbaner!$A$7:$C$85,3,FALSE) -> 1095 | F15: =VLOOKUP(F6,Prisbaner!$A$7:$C$85,3,FALSE) -> 1260 | G15: =VLOOKUP(G6,Prisbaner!$A$7:$C$85,3,FALSE) -> 1424 | H15: =VLOOKUP(H6,Prisbaner!$A$7:$C$85,3,FALSE) -> 1589 | I15: =VLOOKUP(I6,Prisbaner!$A$7:$C$85,3,FALSE) -> 1754 | J15: =VLOOKUP(J6,Prisbaner!$A$7:$C$85,3,FALSE) -> 1918 | ... BY15: =VLOOKUP(BY6,Prisbaner!$A$7:$C$85,3,FALSE) -> 8095
B16: Lav karbonprisbane | C16: =VLOOKUP(C6,Prisbaner!$A$7:$I$85,8,FALSE) -> 461 | D16: =VLOOKUP(D6,Prisbaner!$A$7:$I$85,8,FALSE) -> 457 | E16: =VLOOKUP(E6,Prisbaner!$A$7:$I$85,8,FALSE) -> 455 | F16: =VLOOKUP(F6,Prisbaner!$A$7:$I$85,8,FALSE) -> 454 | G16: =VLOOKUP(G6,Prisbaner!$A$7:$I$85,8,FALSE) -> 455 | H16: =VLOOKUP(H6,Prisbaner!$A$7:$I$85,8,FALSE) -> 455 | I16: =VLOOKUP(I6,Prisbaner!$A$7:$I$85,8,FALSE) -> 455 | J16: =VLOOKUP(J6,Prisbaner!$A$7:$I$85,8,FALSE) -> 455 | ... BY16: =VLOOKUP(BY6,Prisbaner!$A$7:$I$85,8,FALSE) -> 4190
B17: Høy karbonprisbane | C17: =VLOOKUP(C6,Prisbaner!$A$7:$I$85,9,FALSE) -> 1200 | D17: =VLOOKUP(D6,Prisbaner!$A$7:$I$85,9,FALSE) -> 1311 | E17: =VLOOKUP(E6,Prisbaner!$A$7:$I$85,9,FALSE) -> 1433 | F17: =VLOOKUP(F6,Prisbaner!$A$7:$I$85,9,FALSE) -> 1566 | G17: =VLOOKUP(G6,Prisbaner!$A$7:$I$85,9,FALSE) -> 1711 | H17: =VLOOKUP(H6,Prisbaner!$A$7:$I$85,9,FALSE) -> 1870 | I17: =VLOOKUP(I6,Prisbaner!$A$7:$I$85,9,FALSE) -> 2044 | J17: =VLOOKUP(J6,Prisbaner!$A$7:$I$85,9,FALSE) -> 2233 | ... BY17: =VLOOKUP(BY6,Prisbaner!$A$7:$I$85,9,FALSE) -> 33871
B18: Break even prisbane (lav + x(høy-lav)) | C18: =C16+x*(C17-C16) -> 817.49685 | D18: =D16+x*(D17-D16) -> 868.97335 | E18: =E16+x*(E17-E16) -> 926.7915 | F18: =F16+x*(F17-F16) -> 990.43369 | G18: =G16+x*(G17-G16) -> 1060.8999 | H18: =H16+x*(H17-H16) -> 1137.6022 | I18: =I16+x*(I17-I16) -> 1221.5406 | J18: =J16+x*(J17-J16) -> 1312.715 | ... BY18: =BY16+x*(BY17-BY16) -> 18508.245
B20: Årlige verdier
B21: Årlig utslippskostnad ved hovedbanen | C21: =C14*C15 -> 0 | D21: =D14*D15 -> 0 | E21: =E14*E15 -> 0 | F21: =F14*F15 -> 0 | G21: =G14*G15 -> 34611.053 | H21: =H14*H15 -> 37616.532 | I21: =I14*I15 -> 40428.128 | J21: =J14*J15 -> 42944.126 | ... BY21: =BY14*BY15 -> 98786.35
B22: Årlig utslippskostnad ved lav bane | C22: =C14*C16 -> 0 | D22: =D14*D16 -> 0 | E22: =E14*E16 -> 0 | F22: =F14*F16 -> 0 | G22: =G14*G16 -> 11059.009 | H22: =H14*H16 -> 10771.254 | I22: =I14*I16 -> 10487.342 | J22: =J14*J16 -> 10187.475 | ... BY22: =BY14*BY16 -> 51132.156
B23: Årlig utslippskostnad ved høy bane | C23: =C14*C17 -> 0 | D23: =D14*D17 -> 0 | E23: =E14*E17 -> 0 | F23: =F14*F17 -> 0 | G23: =G14*G17 -> 41586.736 | H23: =H14*H17 -> 44268.669 | I23: =I14*I17 -> 47112.368 | J23: =J14*J17 -> 49996.993 | ... BY23: =BY14*BY17 -> 413340.64
B24: Årlig utslippskostnad ved break even-banen | C24: =C$14*C$18 -> 0 | D24: =D$14*D$18 -> 0 | E24: =E$14*E$18 -> 0 | F24: =F$14*F$18 -> 0 | G24: =G$14*G$18 -> 25785.719 | H24: =H$14*H$18 -> 26930.554 | I24: =I$14*I$18 -> 28155.416 | J24: =J$14*J$18 -> 29391.762 | ... BY24: =BY$14*BY$18 -> 225863.12
B26: Diskonterte årlige verdier
B27: Diskontert årlig utslippskostnad ved hovedbanen | C27: =C21*C$11 -> 0 | D27: =D21*D11 -> 0 | E27: =E21*E11 -> 0 | F27: =F21*F11 -> 0 | G27: =G21*G11 -> 29585.673 | H27: =H21*H11 -> 30918.047 | I27: =I21*I11 -> 31950.937 | J27: =J21*J11 -> 32634.006 | K27: =K21*K11 -> 33091.878 | ... BY27: =BY21*BY11 -> 7531.7818
B28: Diskontert årlig utslippskostnad ved lav bane | C28: =C22*C$11 -> 0 | D28: =D22*D$11 -> 0 | E28: =E22*E$11 -> 0 | F28: =F22*F$11 -> 0 | G28: =G22*G$11 -> 9453.2875 | H28: =H22*H$11 -> 8853.1853 | I28: =I22*I$11 -> 8288.2989 | J28: =J22*J$11 -> 7741.6438 | ... BY28: =BY22*BY$11 -> 3898.4763
B29: Diskontert årlig utslippskostnad ved høy bane | C29: =C23*C$11 -> 0 | D29: =D23*D$11 -> 0 | E29: =E23*E$11 -> 0 | F29: =F23*F$11 -> 0 | G29: =G23*G$11 -> 35548.516 | H29: =H23*H$11 -> 36385.619 | I29: =I23*I$11 -> 37233.589 | J29: =J23*J$11 -> 37993.606 | ... BY29: =BY23*BY$11 -> 31514.389
B30: Diskontert årlig utslippskostnad ved break even-banen | C30: =C24*C$11 -> 0 | D30: =D24*D$11 -> 0 | E30: =E24*E$11 -> 0 | F30: =F24*F$11 -> 0 | G30: =G24*G$11 -> 22041.741 | H30: =H24*H$11 -> 22134.952 | I30: =I24*I$11 -> 22251.634 | J30: =J24*J$11 -> 22335.323 | ... BY30: =BY24*BY$11 -> 17220.514
B34: Nåverdi prissatte virkninger - antatt, ikke regnet ut i arket | C34: -1300000
C37: Nåverdi utslipp | D37: Netto SØ nytte
B38: Verdi ved hovedbanen | C38: =SUM(C27:BY27) -> 834560.02 | D38: =C38+C$34 -> -465439.98
B39: Verdi ved lav bane | C39: =SUM(C28:BY28) -> 320212.69 | D39: =C39+C$34 -> -979787.31
B40: Verdi ved høy bane | C40: =SUM(C29:BY29) -> 2351262.4 | D40: =C40+C$34 -> 1051262.4
B41: Verdi ved break even-banen | C41: =SUM(C30:BY30) -> 1300000 | D41: =C41+C$34 -> 0
B45: x ved målsøk | C45: 0.4824044
B46: x regnet ved formlene | C46: =-D39/(D40-D39) -> 0.4824044

Sheet Prisbaner
A1: Karbonprisbaner for bruk i samfunnsøkonomiske analyser
A2: Tallgrunnlag for prisbaner publisert 12.10.2021 på regjeringen.no
A3: Alle tall i norske kroner, prisnivå 2022
A5: År | B5: Verdsetting av klimagassutslipp fordelt på utslippskategori | H5: Følsomhetsanalyse (alle utslippskategorier)
B6: 1. Kvotepliktig utslipp (unntatt luftfart og petroleum) | C6: 2. Ikke-kvotepliktig utslipp | D6: 3. Petroleum | E6: 4. Luftfart | F6: 5. Opptak og utslipp i skog- og arealbruk | H6: Lav bane | I6: Høy bane (IPCC 1,5°-bane - median) | J6: faktor lav | K6: faktor høy | L6: endring, normal | M6: endring, lav | N6: endring, høy | O6: forskjell endring lav og normal
A7: 2022 | B7: 614 | C7: 766 | D7: 1319 | E7: 1246 | F7: 614 | H7: 461 | I7: 1200 | J7: =H7/B7 -> 0.75081433 | K7: =I7/B7 -> 1.9543974 | L7: =(B8-B7)/B7 -> -0.0081433225 | M7: =(H8-H7)/H7 -> -0.0086767896 | N7: =(I8-I7)/I7 -> 0.0925 | O7: =L7-M7 -> 0.00053346711
A8: 2023 | B8: 609 | C8: 931 | D8: 1416 | E8: 1336 | F8: 609 | H8: 457 | I8: 1311 | J8: =H8/B8 -> 0.75041051 | K8: =I8/B8 -> 2.1527094 | L8: =(B9-B8)/B8 -> -0.0032840722 | M8: =(H9-H8)/H8 -> -0.0043763676 | N8: =(I9-I8)/I8 -> 0.093058734 | O8: =L8-M8 -> 0.0010922954
A9: 2024 | B9: 607 | C9: 1095 | D9: 1531 | E9: 1442 | F9: 607 | H9: 455 | I9: 1433 | J9: =H9/B9 -> 0.74958814 | K9: =I9/B9 -> 2.3607908 | L9: =(B10-B9)/B9 -> -0.0032948929 | M9: =(H10-H9)/H9 -> -0.0021978022 | N9: =(I10-I9)/I9 -> 0.092812282 | O9: =L9-M9 -> -0.0010970907
A10: 2025 | B10: 605 | C10: 1260 | D10: 1664 | E10: 1566 | F10: 605 | H10: 454 | I10: 1566 | J10: =H10/B10 -> 0.75041322 | K10: =I10/B10 -> 2.5884298 | L10: =(B11-B10)/B10 -> 0.0016528926 | M10: =(H11-H10)/H10 -> 0.0022026432 | N10: =(I11-I10)/I10 -> 0.092592593 | O10: =L10-M10 -> -0.00054975061
A11: 2026 | B11: 606 | C11: 1424 | D11: 1818 | E11: 1712 | F11: 606 | H11: 455 | I11: 1711 | J11: =H11/B11 -> 0.75082508 | K11: =I11/B11 -> 2.8234323 | L11: =(B12-B11)/B11 -> 0 | M11: =(H12-H11)/H11 -> 0 | N11: =(I12-I11)/I11 -> 0.092928112 | O11: =L11-M11 -> 0
A12: 2027 | B12: 606 | C12: 1589 | D12: 1994 | E12: 1877 | F12: 606 | H12: 455 | I12: 1870 | J12: =H12/B12 -> 0.75082508 | K12: =I12/B12 -> 3.0858086 | L12: =(B13-B12)/B12 -> 0 | M12: =(H13-H12)/H12 -> 0 | N12: =(I13-I12)/I12 -> 0.093048128 | O12: =L12-M12 -> 0
A13: 2028 | B13: 606 | C13: 1754 | D13: 2083 | E13: 2068 | F13: 606 | H13: 455 | I13: 2044 | J13: =H13/B13 -> 0.75082508 | K13: =I13/B13 -> 3.3729373 | L13: =(B14-B13)/B13 -> 0 | M13: =(H14-H13)/H13 -> 0 | N13: =(I14-I13)/I13 -> 0.092465753 | O13: =L13-M13 -> 0
A14: 2029 | B14: 606 | C14: 1918 | D14: 2083 | E14: 2083 | F14: 606 | H14: 455 | I14: 2233 | J14: =H14/B14 -> 0.75082508 | K14: =I14/B14 -> 3.6848185 | L14: =(B15-B14)/B14 -> 0 | M14: =(H15-H14)/H14 -> 0 | N14: =(I15-I14)/I14 -> 0.093148231 | O14: =L14-M14 -> 0
A15: 2030 | B15: 606 | C15: 2083 | D15: 2083 | E15: 2083 | F15: 606 | H15: 455 | I15: 2441 | J15: =H15/B15 -> 0.75082508 | K15: =I15/B15 -> 4.0280528 | L15: =(B16-B15)/B15 -> 0.079207921 | M15: =(H16-H15)/H15 -> 0.03956044 | N15: =(I16-I15)/I15 -> 0.092994674 | O15: =L15-M15 -> 0.039647481
A16: 2031 | B16: 654 | C16: 2083 | D16: 2083 | E16: 2083 | F16: 654 | H16: 473 | I16: 2668 | J16: =H16/B16 -> 0.72324159 | K16: =I16/B16 -> 4.0795107 | L16: =(B17-B16)/B16 -> 0.079510703 | M16: =(H17-H16)/H16 -> 0.040169133 | N16: =(I17-I16)/I16 -> 0.092953523 | O16: =L16-M16 -> 0.03934157
A17: 2032 | B17: 706 | C17: 2083 | D17: 2083 | E17: 2083 | F17: 706 | H17: 492 | I17: 2916 | J17: =H17/B17 -> 0.69688385 | K17: =I17/B17 -> 4.1303116 | L17: =(B18-B17)/B17 -> 0.079320113 | M17: =(H18-H17)/H17 -> 0.038617886 | N17: =(I18-I17)/I17 -> 0.092935528 | O17: =L17-M17 -> 0.040702227
A18: 2033 | B18: 762 | C18: 2083 | D18: 2083 | E18: 2083 | F18: 762 | H18: 511 | I18: 3187 | J18: =H18/B18 -> 0.67060367 | K18: =I18/B18 -> 4.1824147 | L18: =(B19-B18)/B18 -> 0.080052493 | M18: =(H19-H18)/H18 -> 0.04109589 | N18: =(I19-I18)/I18 -> 0.093191089 | O18: =L18-M18 -> 0.038956603
... A84: 2099 | B84: 8590 | C84: 8590 | D84: 8590 | E84: 8590 | F84: 8590 | H84: 4447 | I84: 37578 | J84: =H84/B84 -> 0.51769499 | K84: =I84/B84 -> 4.3746217 | L84: =(B85-B84)/B84 -> 0.020023283 | M84: =(H85-H84)/H84 -> 0.020013492 | N84: =(I85-I84)/I84 -> 0.035233381 | O84: =L84-M84 -> 9.7906451e-06
A85: 2100 | B85: 8762 | C85: 8762 | D85: 8762 | E85: 8762 | F85: 8762 | H85: 4536 | I85: 38902 | J85: =H85/B85 -> 0.51769003 | K85: =I85/B85 -> 4.4398539
A87: Prisbaner publisert av Finansdepartementet 22. desember 2021.
A88: Se artikkel regjeringen.no for mer informasjon: regjering.no/id2878113
