Workbook

Sheet Endringer i rapporteringspakken

Sheet Bevilgningsrapportering
A1: Oppstilling av bevilgningsrapportering, 31.12.2025
A3: Samlet tildeling i henhold til tildelingsbrev
A4: Utgiftskapittel | B4: Kapittelnavn | C4: Post | D4: Posttekst | F4: Samlet tildeling
A5: xxxx | B5: [Formålet/Virksomheten] | C5: xx
A6: xxxx | B6: [Formålet/Virksomheten] | C6: xx
A7: xxxx | B7: [Formålet/Virksomheten] | C7: xx
A8: Sum utgiftsført | F8: =SUM(F5:F7) -> 0
A10: Beholdninger rapportert i likvidrapport ** | E10: Note* | F10: Regnskap 2025
A11: Inngående saldo på oppgjørskonto i Norges Bank
A12: Endringer i perioden
A13: Sum utgående saldo oppgjørskonto i Norges Bank | F13: =SUM(F11:F12) -> 0
A15: Beholdninger rapportert til kapitalregnskapet (31.12)
A16: Konto | B16: Tekst | E16: Note* | F16: 2025 | G16: 2024 | H16: Endring
A17: 6001/82xxxx | B17: Beholdninger på konto(er) i Norges Bank | H17: =SUM(F17-G17) -> 0
A18: 6xxxxxxx | B18: Eiendeler (aksjer, leieboerinnskudd, m.m) | H18: =SUM(F18-G18) -> 0
A20: * Henvisning til aktuell note i virksomhetsregnskapet
A21: ** Dersom virksomheten disponerer flere oppgjørskontoer i Norges Bank enn den ordinære driftskontoen, skal også disse beholdningen spesifiseres med inngående saldo, endring i perioden og utgående saldo. Slike beholdninger skal også inngå i oversikten over beholdninger rapportert til kapitalregnskapet.

Sheet Note C
A1: Note C Oversikt over binding på framtidige års bevilgninger
A3: Avtaler om leie av kontorlokaler
A4: Gjenværende varighet | C4: Årlig leiebeløp | D4: Av neste års bevilgning | E4: Av senere års bevilgning | F4: Samlet binding på framtidige års bevilgninger
A5: Varighet inntil 1 år | F5: =SUM(D5:E5) -> 0
A6: Varighet 1-5 år | F6: =SUM(D6:E6) -> 0
A7: Varighet over 5 år | F7: =SUM(D7:E7) -> 0
A8: Totalt | C8: =SUM(C5:C7) -> 0 | D8: =SUM(D5:D7) -> 0 | E8: =SUM(E5:E7) -> 0 | F8: =SUM(D8:E8) -> 0
A10: Andre vesentlige leieavtaler*
A11: Gjenværende varighet | C11: Årlig leiebeløp | D11: Av neste års bevilgning | E11: Av senere års bevilgning | F11: Samlet binding på framtidige års bevilgninger
A12: Varighet inntil 1 år | F12: =SUM(D12:E12) -> 0
A13: Varighet 1-5 år | F13: =SUM(D13:E13) -> 0
A14: Varighet over 5 år | F14: =SUM(D14:E14) -> 0
A15: Totalt | C15: =SUM(C12:C14) -> 0 | D15: =SUM(D12:D14) -> 0 | E15: =SUM(E12:E14) -> 0 | F15: =SUM(D15:E15) -> 0
A17: Vesentlige avtaler om kjøp av tjenester
A18: Gjenværende varighet | C18: Årlig beløp | D18: Av neste års bevilgning | E18: Av senere års bevilgning | F18: Samlet binding på framtidige års bevilgninger
A19: Varighet inntil 1 år | F19: =SUM(D19:E19) -> 0
A20: Varighet 1-5 år | F20: =SUM(D20:E20) -> 0
A21: Varighet over 5 år | F21: =SUM(D21:E21) -> 0
A22: Totalt | C22: =SUM(C19:C21) -> 0 | D22: =SUM(D19:D21) -> 0 | E22: =SUM(E19:E21) -> 0 | F22: =SUM(D22:E22) -> 0
A24: *Andre vesentlige leieavtaler gjelder …...

Sheet Resultatregnskap
A1: Resultatregnskap
B3: Note | C3: 46022 | D3: 45657
A4: Driftsinntekter
A5: Inntekt fra bevilgninger | B5: 1
A6: Inntekt fra tilskudd og overføringer | B6: 1
A7: Inntekt fra gebyrer | B7: 1
A8: Salgs- og leieinntekter | B8: 1
A9: Andre driftsinntekter | B9: 1
A10: Sum driftsinntekter | C10: =SUM(C5:C9) -> 0 | D10: =SUM(D5:D9) -> 0
A12: Driftskostnader
A13: Varekostnader
A14: Lønnskostnader | B14: 2
A15: Avskrivninger på varige driftsmidler og immaterielle eiendeler | B15: 3.4
A16: Nedskrivninger av varige driftsmidler og immaterielle eiendeler | B16: 3.4
A17: Andre driftskostnader | B17: 5
A18: Sum driftskostnader | C18: =SUM(C13:C17) -> 0 | D18: =SUM(D13:D17) -> 0
A20: Driftsresultat | C20: =C10-C18 -> 0 | D20: =D10-D18 -> 0
A22: Finansinntekter og finanskostnader
A23: Finansinntekter | B23: 6
A24: Finanskostnader | B24: 6
A25: Sum finansinntekter og finanskostnader | C25: =C23-C24 -> 0 | D25: =D23-D24 -> 0
A27: Resultat av periodens aktiviteter | C27: =C20+C25 -> 0 | D27: =D20+D25 -> 0
A29: Avregninger og disponeringer
A30: Avregning bevilgningsfinansiert virksomhet (nettobudsjetterte) | B30: 7
A31: Disponering av periodens resultat (til virksomhetskapital) | B31: 8
A32: Sum avregninger og disponeringer | C32: =SUM(C30:C31) -> 0 | D32: =SUM(D30:D31) -> 0
A34: Innkrevingsvirksomhet og andre overføringer til staten
A35: Avgifter og gebyrer direkte til statskassen | B35: 9
A36: Avregning med statskassen innkrevingsvirksomhet
A37: Sum innkrevingsvirksomhet og andre overføringer til staten | C37: =C35-C36 -> 0 | D37: =D35-D36 -> 0
A39: Tilskuddsforvaltning og andre overføringer fra staten
A40: Tilskudd til andre | B40: 10
A41: Avregning med statskassen tilskuddsforvaltning
A42: Sum tilskuddsforvaltning og andre overføringer fra staten | C42: =C40-C41 -> 0 | D42: =D40-D41 -> 0

Sheet Balanse - eiendeler
A1: Balanse
B3: Note | C3: =Resultatregnskap!C3 -> 46022 | D3: =Resultatregnskap!D3 -> 45657
A4: EIENDELER
A6: A. Anleggsmidler
A8: I Immaterielle eiendeler
A9: Programvare og lignende rettigheter | B9: 3
A10: Immaterielle eiendeler under utførelse | B10: 3
A11: Sum immaterielle eiendeler | C11: =SUM(C9:C10) -> 0 | D11: =SUM(D9:D10) -> 0
A13: II Varige driftsmidler
A14: Tomter, bygninger og annen fast eiendom | B14: 4
A15: Maskiner og transportmidler | B15: 4
A16: Driftsløsøre, inventar, verktøy og lignende | B16: 4
A17: Anlegg under utførelse | B17: 4
A18: Infrastruktureiendeler | B18: 4
A19: Sum varige driftsmidler | C19: =SUM(C14:C18) -> 0 | D19: =SUM(D14:D18) -> 0
A21: III Finansielle anleggsmidler
A22: Investeringer i aksjer og andeler | B22: 11
A23: Obligasjoner
A24: Andre fordringer
A25: Sum finansielle anleggsmidler | C25: =SUM(C22:C24) -> 0 | D25: =SUM(D22:D24) -> 0
A27: Sum anleggsmidler | C27: =C11+C19+C25 -> 0 | D27: =D11+D19+D25 -> 0
A29: B. Omløpsmidler
A31: I Beholdninger av varer og driftsmateriell
A32: Beholdninger av varer og driftsmateriell | B32: 12
A33: Sum beholdning av varer og driftsmateriell | C33: =SUM(C32:C32) -> 0 | D33: =SUM(D32:D32) -> 0
A35: II Fordringer
A36: Kundefordringer | B36: 13
A37: Opptjente, ikke fakturerte inntekter | B37: 14
A38: Andre fordringer | B38: 15
A39: Sum fordringer | C39: =SUM(C36:C38) -> 0 | D39: =SUM(D36:D38) -> 0
A41: III Bankinnskudd, kontanter og lignende
A42: Bankinnskudd | B42: 16
A43: Kontanter og lignende | B43: 16
A44: Sum bankinnskudd, kontanter og lignende | C44: =SUM(C42:C43) -> 0 | D44: =SUM(D42:D43) -> 0
A46: Sum omløpsmidler | C46: =C33+C39+C44 -> 0 | D46: =D33+D39+D44 -> 0
A48: Sum eiendeler drift | C48: =C46+C27 -> 0 | D48: =D46+D27 -> 0
A50: IV Fordringer vedrørende innkrevingsvirksomhet og andre overføringer
A51: Fordringer vedrørende innkrevingsvirksomhet og andre overføringer til staten | B51: 9
A52: Sum fordringer vedrørende innkrevingsvirksomhet og andre overføringer | C52: =SUM(C51) -> 0 | D52: =SUM(D51) -> 0
A54: Sum eiendeler | C54: =C48+C52 -> 0 | D54: =D48+D52 -> 0

Sheet Balanse - statens kap og gjeld 
A1: Balanse
B3: Note | C3: =+Resultatregnskap!C3 -> 46022 | D3: =+Resultatregnskap!D3 -> 45657
A4: STATENS KAPITAL OG GJELD
A6: C. Statens kapital
A8: I Virksomhetskapital
A9: Opptjent virksomhetskapital | B9: 8
A10: Sum virksomhetskapital | C10: =SUM(C9) -> 0 | D10: =SUM(D9) -> 0
A12: II Avregninger
A13: Avregnet bevilgningsfinansiert virksomhet (nettobudsjetterte) | B13: 7
A14: Sum avregninger | C14: =SUM(C13:C13) -> 0 | D14: =SUM(D13:D13) -> 0
A16: III Utsatt inntektsføring av bevilgning (nettobudsjetterte)
A17: Statens finansiering av immaterielle eiendeler og varige driftsmidler | B17: 3.4
A18: Ikke inntektsført bevilgning | B18: 17
A19: Sum utsatt inntektsføring av bevilgning (nettobudsjetterte) | C19: =SUM(C17:C18) -> 0 | D19: =SUM(D17:D18) -> 0
A21: Sum statens kapital | C21: =C10+C14+C19 -> 0 | D21: =D10+D14+D19 -> 0
A23: D. Gjeld
A25: I Avsetning for langsiktige forpliktelser
A26: Avsetninger langsiktige forpliktelser
A27: Sum avsetning for langsiktige forpliktelser | C27: =SUM(C26) -> 0 | D27: =SUM(D26) -> 0
A29: II Annen langsiktig gjeld
A30: Øvrig langsiktig gjeld
A31: Sum annen langsiktig gjeld | C31: =SUM(C30) -> 0 | D31: =SUM(D30) -> 0
A33: III Kortsiktig gjeld
A34: Leverandørgjeld
A35: Skyldig skattetrekk og andre trekk
A36: Skyldige offentlige avgifter
A37: Avsatte feriepenger
A38: Ikke inntektsført tilskudd og overføringer (nettobudsjetterte) | B38: 18
A39: Mottatt forskuddsbetaling | B39: 14
A40: Annen kortsiktig gjeld | B40: 19
A41: Sum kortsiktig gjeld | C41: =SUM(C34:C40) -> 0 | D41: =SUM(D34:D40) -> 0
A43: Sum gjeld | C43: =C27+C31+C41 -> 0 | D43: =D27+D31+D41 -> 0
A45: Sum statens kapital og gjeld drift | C45: =C21+C43 -> 0 | D45: =D21+D43 -> 0
A47: IV Gjeld vedrørende tilskuddsforvaltning og andre overføringer
A48: Bevilgning mottatt til tilskuddsforvaltning (nettobudsjetterte) | B48: 10
A49: Gjeld vedrørende tilskuddsforvaltning og andre overføringer fra staten | B49: 10
A50: Sum gjeld vedrørende tilskuddsforvaltning og andre overføringer | C50: =SUM(C48:C49) -> 0 | D50: =SUM(D48:D49) -> 0
A52: Sum statens kapital og gjeld | C52: =C45+C50 -> 0 | D52: =D45+D50 -> 0

Sheet Kontantstrøm nettobudsjetterte
A1: Kontantstrømoppstilling etter den direkte metoden for nettobudsjetterte virksomheter
B3: =Resultatregnskap!C3 -> 46022 | C3: =Resultatregnskap!D3 -> 45657
A4: Kontantstrømmer fra driftsaktiviteter
A6: Innbetalinger
A7: innbetalinger av bevilgning
A8: innbetalinger av tilskudd og overføringer
A9: innbetalinger fra salg av varer og tjenester
A10: andre innbetalinger
A11: Sum innbetalinger | B11: =SUM(B7:B10) -> 0 | C11: =SUM(C7:C10) -> 0
A13: Utbetalinger
A14: utbetalinger for kjøp av varer og tjenester
A15: utbetalinger av lønn og sosiale kostnader
A16: utbetalinger av skatter og offentlige avgifter
A17: andre utbetalinger
A18: Sum utbetalinger | B18: =SUM(B14:B17) -> 0 | C18: =SUM(C14:C17) -> 0
A20: Netto kontantstrøm fra driftsaktiviteter * (se avstemming) | B20: =B11+B18 -> 0 | C20: =C11+C18 -> 0
A22: Kontantstrømmer fra investeringsaktiviteter
A23: innbetalinger ved salg av immaterielle eiendeler og varige driftsmidler
A24: utbetalinger ved kjøp av immaterielle eiendeler og varige driftsmidler
A25: innbetalinger ved salg av aksjer og andeler
A26: utbetalinger ved kjøp av aksjer og andeler
A27: utbetalinger ved kjøp av obligasjoner og andre fordringer
A28: innbetalinger ved salg av obligasjoner og andre fordringer
A29: innbetalinger av rente og utbytte
A30: utbetalinger av renter
A31: Netto kontantstrøm fra investeringsaktiviteter | B31: =SUM(B23:B30) -> 0 | C31: =SUM(C23:C30) -> 0
A33: Kontantstrømmer fra finansieringsaktiviteter
A34: innbetalinger av virksomhetskapital
A35: tilbakebetalinger av virksomhetskapital
A36: utbetalinger av utbytte til statskassen
A37: Netto kontantstrøm fra finansieringsaktiviteter | B37: =SUM(B34:B36) -> 0 | C37: =SUM(C34:C36) -> 0
A39: Kontantstrømmer knyttet til overføringer
A40: innbetalinger fra statskassen til tilskudd til andre
A41: utbetalinger av tilskudd og overføringer til andre
A42: Netto kontantstrøm knyttet til overføringer | B42: =SUM(B40:B41) -> 0 | C42: =SUM(C40:C41) -> 0
A44: Effekt av valutakursendringer på kontanter og kontantekvivalenter
A46: Netto endring i kontanter og kontantekvivalenter | B46: =B20+B31+B37+B42+B44 -> 0 | C46: =C20+C31+C37+C42+C44 -> 0
A47: Beholdning av kontanter og kontantekvivalenter ved periodens begynnelse
A48: Beholdning av kontanter og kontantekvivalenter ved periodens slutt | B48: =SUM(B46:B47) -> 0 | C48: =SUM(C46:C47) -> 0
B51: =B3 -> 46022 | C51: =C3 -> 45657
A52: Avstemming
A53: avregning bevilgningsfinansiert virksomhet
A54: disponering av periodens resultat (til virksomhetskapital)
A55: bokført verdi avhendede anleggsmidler
A56: ordinære avskrivninger
A57: nedskrivning av anleggsmidler
A58: avsetning utsatte inntekter (tilgang anleggsmidler)
A59: endring i statens finansiering av immaterielle eiendeler og varige driftsmidler
A60: endring i ikke inntektsført bevilgning
A61: endring i beholdninger av varer og driftsmateriell
A62: endring i kundefordringer
A63: endring i leverandørgjeld
... A68: endring i andre tidsavgrensningsposter
A69: Netto kontantstrøm fra driftsaktiviteter* | B69: =SUM(B53:B68) -> 0 | C69: =SUM(C53:C68) -> 0

Sheet Note1
A1: Note 1 Driftsinntekter
E3: =Resultatregnskap!C3 -> 46022 | G3: =Resultatregnskap!D3 -> 45657
A4: Inntekt fra bevilgninger
A5: Inntekt fra bevilgninger | E5: 0 | G5: 0
A6: - brutto benyttet til investeringer i immaterielle eiendeler og varige driftsmidler | E6: 0 | G6: 0
A7: + utsatt inntekt fra avsetning knyttet til investeringer (avskrivninger) | E7: 0 | G7: 0
A8: + utsatt inntekt fra avsetning knyttet til investeringer (bokført verdi avhendede anleggsmidler) | E8: 0 | G8: 0
A9: - utbetaling av tilskudd til andre | E9: 0 | G9: 0
A10: Andre poster som vedrører bevilgninger (spesifiseres) | E10: 0 | G10: 0
A12: Sum inntekt fra bevilgninger | E12: =SUM(E5:E11) -> 0 | G12: =SUM(G5:G11) -> 0
A15: Inntekt fra tilskudd og overføringer
A16: Tilskudd/overføring 1 | E16: 0 | G16: 0
A17: Tilskudd/overføring 2 | E17: 0 | G17: 0
A18: Tilskudd/overføring 3… | E18: 0 | G18: 0
A20: Sum inntekt fra tilskudd og overføringer | E20: =SUM(E16:E18) -> 0 | G20: =SUM(G16:G18) -> 0
A22: Inntekt fra gebyrer
A23: Gebyrer 1 | E23: 0 | G23: 0
A24: Gebyrer 2 | E24: 0 | G24: 0
A25: Gebyrer 3… | E25: 0 | G25: 0
A27: Sum inntekt fra gebyrer | E27: =SUM(E23:E26) -> 0 | G27: =SUM(G23:G26) -> 0
A29: Salgs- og leieinntekter
A30: Salgs- og leieinntekter 1 | E30: 0 | G30: 0
A31: Salgs- og leieinntekter 2 | E31: 0 | G31: 0
A32: Salgs- og leieinntekter 3… | E32: 0 | G32: 0
A34: Sum salgs- og leieinntekter | E34: =SUM(E30:E33) -> 0 | G34: =SUM(G30:G33) -> 0
A36: Andre driftsinntekter
A37: Gevinst ved avgang anleggsmidler | E37: 0 | G37: 0
A38: Andre inntekter 1 | E38: 0 | G38: 0
A39: Andre inntekter 2… | E39: 0 | G39: 0
A41: Sum andre driftsinntekter | E41: =SUM(E37:E40) -> 0 | G41: =SUM(G37:G40) -> 0
A43: Sum driftsinntekter | E43: =E12+E27+E20+E34+E41 -> 0 | G43: =G12+G27+G20+G34+G41 -> 0

Sheet Note2
A1: Note 2 Lønnskostnader, årsverk og andre ytelser
B3: =Resultatregnskap!C3 -> 46022 | D3: =Resultatregnskap!D3 -> 45657
A5: Lønn | B5: 0 | D5: 0
A6: Feriepenger | B6: 0 | D6: 0
A7: Arbeidsgiveravgift | B7: 0 | D7: 0
A8: Pensjonskostnader* | B8: 0 | D8: 0
A9: Lønn balanseført ved egenutvikling av anleggsmidler (-)** | B9: 0 | D9: 0
A10: Sykepenger og andre refusjoner (-) | B10: 0 | D10: 0
A11: Andre ytelser | B11: 0 | D11: 0
A12: Sum lønnskostnader | B12: =SUM(B5:B11) -> 0 | D12: =SUM(D5:D11) -> 0
A14: Antall utførte årsverk | B14: 0 | D14: 0
A16: Lønn og andre ytelser til virksomhetsleder
A17: Navn på virksomhetsleder | B17: 0 | D17: 0
A19: Lønn og andre ytelser til styreleder og de enkelte medlemmer av styret
A20: Navn på leder av styret (styreleder) | B20: 0 | D20: 0
A21: Navn på styremedlem 1 | B21: 0 | D21: 0
A22: Navn på styremedlem 2 osv. | B22: 0 | D22: 0

Sheet Note3
A1: Note 3 Immaterielle eiendeler
B3: Programvare og lignende rettigheter | C3: Immaterielle eiendeler under utførelse | D3: Sum
A5: Anskaffelseskost 01.01.2025 | B5: 0 | C5: 0 | D5: =SUM(B5:C5) -> 0
A6: Tilgang i 2025 | B6: 0 | C6: 0 | D6: =SUM(B6:C6) -> 0
A7: Avgang anskaffelseskost i 2025 (-) | B7: 0 | C7: 0 | D7: =SUM(B7:C7) -> 0
A8: Fra immaterielle eiendeler under utførelse til annen gruppe i 2025 | B8: 0 | C8: 0 | D8: =SUM(B8:C8) -> 0
A9: Anskaffelseskost 31.12.2025 | B9: =SUM(B5:B8) -> 0 | C9: =SUM(C5:C8) -> 0 | D9: =SUM(D5:D8) -> 0
A10: Akkumulerte nedskrivninger 01.01.2025 | B10: 0 | C10: 0 | D10: =SUM(B10:C10) -> 0
A11: Nedskrivninger i 2025 | B11: 0 | C11: 0 | D11: =SUM(B11:C11) -> 0
A12: Akkumulerte avskrivninger 01.01.2025 | B12: 0 | C12: 0 | D12: =SUM(B12:C12) -> 0
A13: Ordinære avskrivninger i 2025 | B13: 0 | C13: 0 | D13: =SUM(B13:C13) -> 0
A14: Akkumulerte avskrivninger avgang i 2025 (-) | B14: 0 | C14: 0 | D14: =SUM(B14:C14) -> 0
A15: Balanseført verdi 31.12.2025 | B15: =B9-B10-B11-B12-B13-B14 -> 0 | C15: =C9-C10-C11-C12-C13-C14 -> 0 | D15: =D9-D10-D11-D12-D13-D14 -> 0
A17: Avskrivningssatser (levetider) | B17: 5 år / lineært | C17: Ingen avskrivning
A19: Avhendelse av immaterielle eiendeler i 2025:
A20: Salgssum ved avgang anleggsmidler | D20: =SUM(B20:C20) -> 0
A21: - Bokført verdi avhendede anleggsmidler | D21: =SUM(B21:C21) -> 0
A22: = Regnskapsmessig gevinst/tap | B22: =SUM(B20:B21) -> 0 | C22: =SUM(C20:C21) -> 0 | D22: =SUM(D20:D21) -> 0

Sheet Note4
A1: Note 4 Varige driftsmidler
B3: Tomter | C3: Bygninger og annen fast eiendom | D3: Maskiner og transportmidler | E3: Driftsløsøre, inventar, verktøy o.l. | F3: Anlegg under utførelse | G3: Infrastruktur- eiendeler | H3: Sum
A5: Anskaffelseskost 01.01.2025 | B5: 0 | C5: 0 | D5: 0 | E5: 0 | F5: 0 | G5: 0 | H5: =SUM(B5:G5) -> 0
A6: Tilgang i 2025 | B6: 0 | C6: 0 | D6: 0 | E6: 0 | F6: 0 | G6: 0 | H6: =SUM(B6:G6) -> 0
A7: Avgang anskaffelseskost i 2025 (-) | B7: 0 | C7: 0 | D7: 0 | E7: 0 | F7: 0 | G7: 0 | H7: =SUM(B7:G7) -> 0
A8: Fra anlegg under utførelse til annen gruppe i 2025 | B8: 0 | C8: 0 | D8: 0 | E8: 0 | F8: 0 | G8: 0 | H8: =SUM(B8:G8) -> 0
A9: Anskaffelseskost 31.12.2025 | B9: =SUM(B5:B8) -> 0 | C9: =SUM(C5:C8) -> 0 | D9: =SUM(D5:D8) -> 0 | E9: =SUM(E5:E8) -> 0 | F9: =SUM(F5:F8) -> 0 | G9: =SUM(G5:G8) -> 0 | H9: =SUM(H5:H8) -> 0
A10: Akkumulerte nedskrivninger 01.01.2025 | B10: 0 | C10: 0 | D10: 0 | E10: 0 | F10: 0 | G10: 0 | H10: =SUM(B10:G10) -> 0
A11: Nedskrivninger i 2025 | B11: 0 | C11: 0 | D11: 0 | E11: 0 | F11: 0 | G11: 0 | H11: =SUM(B11:G11) -> 0
A12: Akkumulerte avskrivninger 01.01.2025 | B12: 0 | C12: 0 | D12: 0 | E12: 0 | F12: 0 | G12: 0 | H12: =SUM(B12:G12) -> 0
A13: Ordinære avskrivninger i 2025 | B13: 0 | C13: 0 | D13: 0 | E13: 0 | F13: 0 | G13: 0 | H13: =SUM(B13:G13) -> 0
A14: Akkumulerte avskrivninger avgang i 2025 (-) | B14: 0 | C14: 0 | D14: 0 | E14: 0 | F14: 0 | G14: 0 | H14: =SUM(B14:G14) -> 0
A15: Balanseført verdi 31.12.2025 | B15: =B9-B10-B11-B12-B13-B14 -> 0 | C15: =C9-C10-C11-C12-C13-C14 -> 0 | D15: =D9-D10-D11-D12-D13-D14 -> 0 | E15: =E9-E10-E11-E12-E13-E14 -> 0 | F15: =F9-F10-F11-F12-F13-F14 -> 0 | G15: =G9-G10-G11-G12-G13-G14 -> 0 | H15: =H9-H10-H11-H12-H13-H14 -> 0
A17: Avskrivningssatser (levetider) | B17: Ingen avskrivning | C17: 10-60 år dekomponert lineært | D17: 3-15 år lineært | E17: 3-15 år lineært | F17: Ingen avskrivning | G17: Virksomhets- spesifikt
A19: Avhendelse av varige driftsmidler i 2025:
A20: Salgssum ved avgang anleggsmidler | H20: =SUM(B20:G20) -> 0
A21: - Bokført verdi avhendede anleggsmidler | H21: =SUM(B21:G21) -> 0
A22: = Regnskapsmessig gevinst/tap | B22: =SUM(B20:B21) -> 0 | C22: =SUM(C20:C21) -> 0 | D22: =SUM(D20:D21) -> 0 | E22: =SUM(E20:E21) -> 0 | F22: =SUM(F20:F21) -> 0 | G22: =SUM(G20:G21) -> 0 | H22: =SUM(H20:H21) -> 0

Sheet Note5 
A1: Note 5 Andre driftskostnader
B3: =+Resultatregnskap!C3 -> 46022 | D3: =+Resultatregnskap!D3 -> 45657
A5: Husleie | B5: 0 | D5: 0
A6: Vedlikehold egne bygg og anlegg | B6: 0 | D6: 0
A7: Vedlikehold og ombygging av leide lokaler | B7: 0 | D7: 0
A8: Andre kostnader til drift av eiendom og lokaler | B8: 0 | D8: 0
A9: Leie av maskiner, inventar og lignende | B9: 0 | D9: 0
A10: Mindre utstyrsanskaffelser | B10: 0 | D10: 0
A11: Reparasjon og vedlikehold av maskiner, utstyr mv. | B11: 0 | D11: 0
A12: Kjøp av konsulenttjenester | B12: 0 | D12: 0
A13: Kjøp av andre fremmede tjenester | B13: 0 | D13: 0
A14: Reiser og diett | B14: 0 | D14: 0
A15: Tap og lignende | B15: 0 | D15: 0
A16: Øvrige driftskostnader | B16: 0 | D16: 0
A17: Sum andre driftskostnader | B17: =SUM(B5:B16) -> 0 | D17: =SUM(D5:D16) -> 0
A20: Tilleggsinformasjon om operasjonelle leieavtaler
A21: Gjenværende varighet | B21: Type eiendel
B22: Immaterielle eiendeler | C22: Tomter, bygninger og annen fast eiendom | D22: Maskiner og transport- midler | E22: Driftsløsøre, inventar, verktøy og lignende | F22: Infrastruktur- eiendeler | G22: Sum
A23: Varighet inntil 1 år | G23: =SUM(B23:F23) -> 0
A24: Varighet 1-5 år | G24: =SUM(B24:F24) -> 0
A25: Varighet over 5 år | G25: =SUM(B25:F25) -> 0
A26: Kostnadsført leiebetaling for perioden | B26: 0 | C26: 0 | D26: 0 | E26: 0 | F26: 0 | G26: =SUM(G23:G25) -> 0
A32: Eksempel på utfylling av tilleggsinformasjon (Denne må slettes ved presentasjon av regnskapet)
A34: Tilleggsinformasjon om operasjonelle leieavtaler
A35: Gjenværende varighet | B35: Type eiendel
B36: Immaterielle eiendeler | C36: Tomter, bygninger og annen fast eiendom | D36: Maskiner og transportmidler | E36: Driftsløsøre, inventar, verktøy og lignende | F36: Infrastruktureien-deler | G36: Sum
A37: Varighet inntil 1 år | E37: 300000 | G37: =SUM(B37:F37) -> 300000
A38: Varighet 1-5 år | C38: 1200000 | G38: =SUM(B38:F38) -> 1200000
A39: Varighet over 5 år | G39: =SUM(B39:F39) -> 0
A40: Kostnadsført leiebetaling for perioden | B40: 0 | C40: 1200000 | D40: 0 | E40: 300000 | F40: 0 | G40: =SUM(G37:G39) -> 1500000

Sheet Note6
A1: Note 6 Finansinntekter og finanskostnader
B3: =Resultatregnskap!C3 -> 46022 | D3: =Resultatregnskap!D3 -> 45657
A4: Finansinntekter
A5: Renteinntekter | B5: 0 | D5: 0
A6: Valutagevinst (agio) | B6: 0 | D6: 0
A7: Utbytte fra selskaper | B7: 0 | D7: 0
A8: Annen finansinntekt | B8: 0 | D8: 0
A9: Sum finansinntekter | B9: =SUM(B5:B8) -> 0 | D9: =SUM(D5:D8) -> 0
A11: Finanskostnader
A12: Rentekostnad | B12: 0 | D12: 0
A13: Nedskrivning av aksjer | B13: 0 | D13: 0
A14: Valutatap (disagio) | B14: 0 | D14: 0
A15: Annen finanskostnad | B15: 0 | D15: 0
A16: Sum finanskostnader | B16: =SUM(B12:B15) -> 0 | D16: =SUM(D12:D15) -> 0

Sheet Note7
A1: Note 7 Avregnet bevilgningsfinansiert virksomhet (nettobudsjetterte virksomheter)
B3: =Resultatregnskap!C3 -> 46022 | C3: =Resultatregnskap!D3 -> 45657 | D3: Endring
A5: Avsatt til 1 | B5: 0 | C5: 0 | D5: =C5-B5 -> 0
A6: Avsatt til 2 | B6: 0 | C6: 0 | D6: =C6-B6 -> 0
A7: Avsatt til 3… | B7: 0 | C7: 0 | D7: =C7-B7 -> 0
A8: Sum avregnet bevilgningsfinansiert virksomhet | B8: =SUM(B5:B7) -> 0 | C8: =SUM(C5:C7) -> 0 | D8: =SUM(D5:D7) -> 0
A10: Årets korrigeringer direkte mot avregninger (kongruensavvik)
A11: Endring i avregning bevilgingsfinansiert virksomhet i balansen | D11: 0
A12: Spesifikasjon av andre korrigeringer direkte mot avregninger | D12: 0
A13: Avregning bevilgningsfinansiert virksomhet i resultatregnskapet | D13: =SUM(D11:D12) -> 0

Sheet Note8
A1: Note 8 Opptjent virksomhetskapital (nettobudsjetterte virksomheter)
A3: Opptjent virksomhetskapital 01.01.2025 | B3: 0
A4: Overført fra årets resultat | B4: 0
A5: Opptjent virksomhetskapital 31.12.2025 | B5: =SUM(B3:B4) -> 0
A7: Nettobudsjetterte virksomheter og forvaltningsbedrifter kan opptjene virksomhetskapital.
A8: Nettobudsjetterte virksomheter kan bare opptjene virksomhetskapital fra inntekter fra oppdrag.

Sheet Note9 
A1: Note 9 Innkrevingsvirksomhet og andre overføringer til staten
A3: Alternativ a) For virksomheter som presenterer innkrevingsvirksomhet etter kontantprinsippet
A4: Hvis presentasjon etter samme prinsipper som de er bokført, må "Alternativ a)" slettes. Denne teksten skal slettes
A5: uavhengig av hvilket prinsipp man bruker.
A7: Avgifter og gebyrer direkte til statskassen
B8: =+Resultatregnskap!C3 -> 46022 | D8: =+Resultatregnskap!D3 -> 45657
A10: Avgift 1 | B10: 0 | D10: 0
A11: Avgift 2 | B11: 0 | D11: 0
A12: Avgift 3… | B12: 0 | D12: 0
A13: Sum avgifter og gebyrer direkte til statskassen | B13: =SUM(B10:B12) -> 0 | D13: =SUM(D10:D12) -> 0
A16: Alternativ b) For virksomheter som presenterer innkrevingsvirksomhet etter samme prinsipper som de er bokført etter
A17: Hvis presentasjon etter kontantprinsippet må "Alternativ b)" slettes. Denne teksten skal slettes uavhengig av
A18: hvilket prinsipp man bruker.
A20: Avgifter og gebyrer direkte til statskassen
B21: =+Resultatregnskap!C3 -> 46022 | D21: =+Resultatregnskap!D3 -> 45657
A23: Avgift 1 | B23: 0 | D23: 0
A24: Avgift 2 | B24: 0 | D24: 0
A25: Avgift 3… | B25: 0 | D25: 0
A26: Sum avgifter og gebyrer direkte til statskassen | B26: =SUM(B23:B25) -> 0 | D26: =SUM(D23:D25) -> 0
A28: Fordringer vedrørende innkrevingsvirksomhet og andre overføringer
B29: =+Resultatregnskap!C3 -> 46022 | D29: =+Resultatregnskap!D3 -> 45657
A30: Fordringer til pålydende | B30: 0 | D30: 0
A31: Avsatt til forventet tap (-) | B31: 0 | D31: 0
A32: Sum fordringer vedrørende innkrevingsvirksomhet og andre overføringer | B32: =SUM(B30:B31) -> 0 | D32: =SUM(D30:D31) -> 0

Sheet Note10 
A1: Note 10 Tilskuddsforvaltning og andre overføringer fra staten
A3: Alternativ a) For virksomheter som presenterer tilskuddsforvaltning etter kontantprinsippet
A4: Hvis presentasjon etter samme prinsipper som de er bokført, må "Alternativ a)" slettes. Denne teksten skal slettes
A5: uavhengig av hvilket prinsipp man bruker.
A6: Tilskudd til andre
B7: =+Resultatregnskap!C3 -> 46022 | D7: =+Resultatregnskap!D3 -> 45657
A9: Tilskudd til 1 | B9: 0 | D9: 0
A10: Tilskudd til 2 | B10: 0 | D10: 0
A11: Tilskudd til 3… | B11: 0 | D11: 0
A12: Sum tilskudd til andre | B12: =SUM(B9:B11) -> 0 | D12: =SUM(D9:D11) -> 0
A15: Alternativ b) For virksomheter som presenterer tilskuddsforvaltning etter samme prinsipper som de er bokført etter
A16: Hvis presentasjon etter kontantprinsippet må "Alternativ b)" slettes. Denne teksten skal slettes uavhengig av
A17: hvilket prinsipp man bruker.
A18: Tilskudd til andre
B19: =+Resultatregnskap!C3 -> 46022 | D19: =+Resultatregnskap!D3 -> 45657
A21: Tilskudd til 1 | B21: 0 | D21: 0
A22: Tilskudd til 2 | B22: 0 | D22: 0
A23: Tilskudd til 3… | B23: 0 | D23: 0
A24: Sum tilskudd til andre | B24: =SUM(B21:B23) -> 0 | D24: =SUM(D21:D23) -> 0
A26: Bevilgning mottatt til tilskuddsforvaltning (nettobudsjetterte)
A27: Her gis eventuelt en tekstlig utdyping.
A29: Gjeld vedrørende tilskuddsforvaltning og andre overføringer fra staten
A30: Her gis eventuelt en tekstlig utdyping.

Sheet Note11
A1: Note 11 Investeringer i aksjer og andeler
A3: Aksjer | B3: Ervervsdato | C3: Antall aksjer | D3: Eierandel | E3: Stemmeandel | F3: Årets resultat i selskapet | G3: Balanseført egenkapital i selskapet | H3: Balanseført verdi kapital- regnskapet | I3: Balanseført verdi virksomhets- regnskapet
A4: Selskap 1 | D4: 0 | E4: 0 | F4: 0 | G4: 0 | H4: 0 | I4: 0
A5: Selskap 2 | D5: 0 | E5: 0 | F5: 0 | G5: 0 | H5: 0 | I5: 0
A6: Selskap 3… | D6: 0 | E6: 0 | F6: 0 | G6: 0 | H6: 0 | I6: 0
A7: Balanseført verdi 31.12.2025 | H7: =SUM(H4:H6) -> 0 | I7: =SUM(I4:I6) -> 0

Sheet Note12
A1: Note 12 Beholdninger av varer og driftsmateriell
B3: =Resultatregnskap!C3 -> 46022 | D3: =Resultatregnskap!D3 -> 45657
A4: Anskaffelseskost
A5: Råvarer og innkjøpte halvfabrikata | B5: 0 | D5: 0
A6: Varer under tilvirkning | B6: 0 | D6: 0
A7: Ferdige egentilvirkede varer og driftsmateriell | B7: 0 | D7: 0
A8: Innkjøpte varer (ferdigvarer) og driftsmateriell | B8: 0 | D8: 0
A9: Sum anskaffelseskost | B9: =SUM(B5:B8) -> 0 | D9: =SUM(D5:D8) -> 0
A11: Ukurans
A12: Ukurans i råvarer og innkjøpte halvfabrikata | B12: 0 | D12: 0
A13: Ukurans i varer under tilvirkning | B13: 0 | D13: 0
A14: Ukurans i ferdige egentilvirkede varer | B14: 0 | D14: 0
A15: Ukurans i innkøpte varer (ferdigvarer) | B15: 0 | D15: 0
A16: Nedskrivning av driftsmateriell | B16: 0 | D16: 0
A17: Sum ukurans | B17: =SUM(B12:B16) -> 0 | D17: =SUM(D12:D16) -> 0
A19: Sum beholdninger av varer og driftsmateriell | B19: =B9-B17 -> 0 | D19: =D9-D17 -> 0

Sheet Note13
A1: Note 13 Kundefordringer
B3: =Resultatregnskap!C3 -> 46022 | D3: =Resultatregnskap!D3 -> 45657
A5: Kundefordringer til pålydende | B5: 0 | D5: 0
A6: Avsatt til forventet tap (-) | B6: 0 | D6: 0
A7: Sum kundefordringer | B7: =SUM(B5:B6) -> 0 | D7: =SUM(D5:D6) -> 0

Sheet Note14
A1: Note 14 Opptjente, ikke fakturerte inntekter / Mottatt forskuddsbetaling
A3: Opptjente, ikke fakturerte inntekter (fordring)
B4: =Resultatregnskap!C3 -> 46022 | D4: =Resultatregnskap!D3 -> 45657
A6: Aktivitet 1 | B6: 0 | D6: 0
A7: Aktivitet 2 | B7: 0 | D7: 0
A8: Aktivitet 3… | B8: 0 | D8: 0
A9: Sum opptjente, ikke fakturerte inntekter | B9: =SUM(B6:B8) -> 0 | D9: =SUM(D6:D8) -> 0
A11: Mottatt forskuddsbetaling (gjeld)
B12: =B4 -> 46022 | D12: =D4 -> 45657
A14: Aktivitet 1 | B14: 0 | D14: 0
A15: Aktivitet 2 | B15: 0 | D15: 0
A16: Aktivitet 3… | B16: 0 | D16: 0
A17: Sum mottatt forskuddsbetaling | B17: =SUM(B14:B16) -> 0 | D17: =SUM(D14:D16) -> 0

Sheet Note15
A1: Note 15 Andre kortsiktige fordringer
B3: =Resultatregnskap!C3 -> 46022 | D3: =Resultatregnskap!D3 -> 45657
A5: Forskuddsbetalt lønn | B5: 0 | D5: 0
A6: Reiseforskudd | B6: 0 | D6: 0
A7: Personallån | B7: 0 | D7: 0
A8: Andre fordringer på ansatte | B8: 0 | D8: 0
A9: Forskuddsbetalt leie | B9: 0 | D9: 0
A10: Andre forskuddsbetalte kostnader | B10: 0 | D10: 0
A11: Andre fordringer | B11: 0 | D11: 0
A12: Sum andre fordringer | B12: =SUM(B5:B11) -> 0 | D12: =SUM(D5:D11) -> 0

Sheet Note16
A1: Note 16 Bankinnskudd, kontanter og lignende
B3: =Resultatregnskap!C3 -> 46022 | D3: =Resultatregnskap!D3 -> 45657
A5: Innskudd statens konsernkonto (nettobudsjetterte virksomheter) | B5: 0 | D5: 0
A6: Øvrige bankkontoer | B6: 0 | D6: 0
A7: Kontantbeholdninger | B7: 0 | D7: 0
A8: Sum bankinnskudd, kontanter og lignende | B8: =SUM(B5:B7) -> 0 | D8: =SUM(D5:D7) -> 0

Sheet Note17
A1: Note 17 Ikke inntektsført bevilgning (nettobudsjetterte virksomheter)
B3: =+Resultatregnskap!C3 -> 46022 | C3: =+Resultatregnskap!D3 -> 45657 | D3: Endring
A4: Ikke inntektsført bevilgning fra fagdepartementet (gjeld)
A5: Oppgave 1 | B5: 0 | C5: 0 | D5: =B5-C5 -> 0
A6: Oppgave 2 | B6: 0 | C6: 0 | D6: =B6-C6 -> 0
A7: Oppgave 3… | B7: 0 | C7: 0 | D7: =B7-C7 -> 0
A8: Sum ikke inntektsført bevilgning fra fagdepartementet (gjeld) | B8: =SUM(B5:B7) -> 0 | C8: =SUM(C5:C7) -> 0 | D8: =SUM(D5:D7) -> 0
A10: Ikke inntektsført bevilgning fra andre departementer (gjeld)
A11: Oppgave 1 | B11: 0 | C11: 0 | D11: =B11-C11 -> 0
A12: Oppgave 2 | B12: 0 | C12: 0 | D12: =B12-C12 -> 0
A13: Oppgave 3… | B13: 0 | C13: 0 | D13: =B13-C13 -> 0
A14: Sum ikke inntektsført bevilgning fra andre departementer (gjeld) | B14: =SUM(B11:B13) -> 0 | C14: =SUM(C11:C13) -> 0 | D14: =SUM(D11:D13) -> 0
A16: Sum ikke inntektført bevilgning | B16: =B8+B14 -> 0 | C16: =C8+C14 -> 0 | D16: =D8+D14 -> 0

Sheet Note18
A1: Note 18 Ikke inntektsført tilskudd og overføringer (nettobudsjetterte virksomheter)
B3: =+Resultatregnskap!C3 -> 46022 | C3: =+Resultatregnskap!D3 -> 45657 | D3: Endring
A4: Ikke inntektsførte tilskudd og overføringer (gjeld)
A5: Oppgave 1 | B5: 0 | C5: 0 | D5: =B5-C5 -> 0
A6: Oppgave 2 | B6: 0 | C6: 0 | D6: =B6-C6 -> 0
A7: Oppgave 3… | B7: 0 | C7: 0 | D7: =B7-C7 -> 0
A8: Sum ikke inntektsførte tilskudd og overføringer (gjeld) | B8: =SUM(B5:B7) -> 0 | C8: =SUM(C5:C7) -> 0 | D8: =SUM(D5:D7) -> 0
A10: Opptjente, ikke mottatte tilskudd og overføringer (fordringer)
A11: Oppgave 1 | B11: 0 | C11: 0 | D11: =B11-C11 -> 0
A12: Oppgave 2 | B12: 0 | C12: 0 | D12: =B12-C12 -> 0
A13: Oppgave 3… | B13: 0 | C13: 0 | D13: =B13-C13 -> 0
A14: Sum opptjente, ikke mottatte tilskudd og overføringer (fordringer) | B14: =SUM(B11:B13) -> 0 | C14: =SUM(C11:C13) -> 0 | D14: =SUM(D11:D13) -> 0
A16: Sum ikke inntektsført tilskudd og overføringer | B16: =B8-B14 -> 0 | C16: =C8-C14 -> 0 | D16: =D8-D14 -> 0

Sheet Note19
A1: Note 19 Annen kortsiktig gjeld
B3: =Resultatregnskap!C3 -> 46022 | D3: =Resultatregnskap!D3 -> 45657
A5: Skyldig lønn | B5: 0 | D5: 0
A6: Annen gjeld til ansatte | B6: 0 | D6: 0
A7: Avsetning for lønnsoppgjør* | B7: 0 | D7: 0
A8: Påløpte kostnader | B8: 0 | D8: 0
A9: Annen kortsiktig gjeld | B9: 0 | D9: 0
A10: Sum annen kortsiktig gjeld | B10: =SUM(B5:B9) -> 0 | D10: =SUM(D5:D9) -> 0
