Workbook

Sheet Endringer i rapporteringspakken

Sheet Bevilgningsrapportering
A1: Oppstilling av bevilgningsrapportering, 31.08.2026
A2: Utgiftskapittel | B2: Kapittelnavn | C2: Post | D2: Posttekst | E2: Note | F2: Samlet tildeling for 2026 * | G2: Regnskap per 31.08.2026
A3: xxxx | B3: [Formålet/Virksomheten] | C3: xx | D3: Driftsutgifter
A4: xxxx | B4: [Formålet/Virksomheten] | C4: xx | D4: Større utstyrsanskaffelser og vedlikehold
A5: xxxx | B5: [Formålet/Virksomheten] | C5: xx | D5: Tilskudd
A6: xxxx | B6: [Formålet/Virksomheten] | C6: xx | D6: Kjøp av aksjer
A7: xxxx | B7: [Virksomhet X(belastningsfullmakt)] | C7: xx | D7: Driftsutgifter
A8: 1633 | B8: Nettoordning, statlig betalt merverdiavgift | C8: 01 | D8: Driftsutgifter
A9: Sum utgiftsført | F9: =SUM(F3:F8) -> 0 | G9: =SUM(G3:G8) -> 0
A12: Inntektskapittel | B12: Kapittelnavn | C12: Post | D12: Posttekst | F12: Samlet tildeling for 2026 * | G12: Regnskap per 31.08.2026
A13: xxxx | B13: [Formålet/Virksomheten] | C13: xx
A14: 5309 | B14: Tilfeldige inntekter | C14: 29 | D14: Ymse
A15: 5700 | B15: Folketrygdens inntekter | C15: 72 | D15: Arbeidsgiveravgift
A16: Sum inntektsført | F16: =SUM(F13:F15) -> 0 | G16: =SUM(G13:G15) -> 0
A18: Netto rapportert til bevilgningsregnskapet | G18: =G9-G16 -> 0
A19: Kapitalkontoer
A20: 60xxxxxx | B20: Norges Bank KK /innbetalinger
A21: 60xxxxxx | B21: Norges Bank KK/utbetalinger
A22: 7xxxxx | B22: Endring i mellomværende med statskassen
A23: Sum rapportert | G23: =SUM(G18:G22) -> 0
A26: Beholdninger rapportert til kapitalregnskapet
A27: Konto | B27: Tekst | F27: 46265 | G27: 46022 | H27: Endring
A28: 7xxxxx | B28: Mellomværende med statskassen | H28: =SUM(F28-G28) -> 0

Sheet Note A
A1: Note A Forklaring av samlet tildeling utgifter
A2: Kapittel og post | B2: Overført fra i fjor | C2: Årets tildelinger | D2: Samlet tildeling
A3: xxxxxx | D3: =B3+C3 -> 0
A4: xxxxxx | D4: =B4+C4 -> 0
A5: xxxxxx | D5: =B5+C5 -> 0
A6: xxxxxx | D6: =B6+C6 -> 0

Sheet Artskontorapportering
A1: Oppstilling av artskontorapporteringen 31.08.2026
B2: 46265 | C2: 45900 | D2: 31.12.2025
A3: Driftsinntekter rapportert til bevilgningsregnskapet
A4: Innbetalinger fra gebyrer
A5: Innbetalinger fra tilskudd og overføringer
A6: Salgs- og leieinnbetalinger
A7: Andre innbetalinger
A8: Sum innbetalinger fra drift | B8: =SUM(B4:B7) -> 0 | C8: =SUM(C4:C7) -> 0 | D8: =SUM(D4:D7) -> 0
A10: Driftsutgifter rapportert til bevilgningsregnskapet
A11: Utbetalinger til lønn
A12: Andre utbetalinger til drift
A13: Sum utbetalinger til drift | B13: =SUM(B11:B12) -> 0 | C13: =SUM(C11:C12) -> 0 | D13: =SUM(D11:D12) -> 0
A15: Netto rapporterte driftsutgifter | B15: =B13-B8 -> 0 | C15: =C13-C8 -> 0 | D15: =D13-D8 -> 0
A17: Investerings- og finansinntekter rapportert til bevilgningsregnskapet
A18: Innbetaling av finansinntekter
A19: Sum investerings- og finansinntekter | B19: =SUM(B18) -> 0 | C19: =SUM(C18) -> 0 | D19: =SUM(D18) -> 0
A21: Investerings- og finansutgifter rapportert til bevilgningsregnskapet
A22: Utbetaling til investeringer
A23: Utbetaling til kjøp av aksjer
A24: Utbetaling av finansutgifter
A25: Sum investerings- og finansutgifter | B25: =SUM(B22:B24) -> 0 | C25: =SUM(C22:C24) -> 0 | D25: =SUM(D22:D24) -> 0
A27: Netto rapporterte investerings- og finansutgifter | B27: =B25-B19 -> 0 | C27: =C25-C19 -> 0 | D27: =D25-D19 -> 0
A29: Innkrevingsvirksomhet og andre overføringer til staten*
A30: Innbetaling av skatter, avgifter, gebyrer m.m.
A31: Sum innkrevingsvirksomhet og andre overføringer til staten | B31: =SUM(B30) -> 0 | C31: =SUM(C30) -> 0 | D31: =SUM(D30) -> 0
A33: Tilskuddsforvaltning og andre overføringer fra staten*
A34: Utbetalinger av tilskudd og stønader
A35: Sum tilskuddsforvaltning og andre overføringer fra staten | B35: =SUM(B34) -> 0 | C35: =SUM(C34) -> 0 | D35: =SUM(D34) -> 0
A37: Inntekter og utgifter rapportert på felleskapitler **
A38: Gruppelivsforsikring konto 1985 (ref. kap. 5309, inntekt)
A39: Arbeidsgiveravgift konto 1986 (ref. kap. 5700, inntekt)
A40: Nettoføringsordning for merverdiavgift konto 1987 (ref. kap. 1633, utgift)
A41: Netto rapporterte utgifter på felleskapitler | B41: =B40-B39-B38 -> 0 | C41: =C40-C39-C38 -> 0 | D41: =D40-D39-D38 -> 0
A43: Netto rapportert til bevilgningsregnskapet | B43: =B15+B27-B31+B35+B41 -> 0 | C43: =C15+C27-C31+C35+C41 -> 0 | D43: =D15+D27-D31+D35+D41 -> 0
A45: Oversikt over mellomværende med statskassen ***
A46: Eiendeler og gjeld | B46: 31.08.2026 | C46: 31.08.2025 | D46: =D2 -> 31.12.2025
A47: Fordringer på ansatte
A48: Kontanter
A49: Bankkontoer med statlige midler utenfor Norges Bank
A50: Skyldig skattetrekk og andre trekk
A51: Skyldige offentlige avgifter
A52: Avsatt pensjonspremie til Statens pensjonskasse ****
A53: Mottatte forskuddsbetalinger
A54: Lønn (negativ netto, for mye utbealt lønn m.m.)
A55: Differanser på bank og uidentifiserte innbetalinger
A56: Sum mellomværende med statskassen | B56: =SUM(B47:B55) -> 0 | C56: =SUM(C47:C55) -> 0 | D56: =SUM(D47:D55) -> 0

Sheet Resultatregnskap
A1: Resultatregnskap
B3: Note | C3: 46265 | D3: 45900 | E3: 46022
A4: Driftsinntekter
A5: Inntekt fra bevilgninger | B5: 1
A6: Inntekt fra tilskudd og overføringer | B6: 1
A7: Inntekt fra gebyrer | B7: 1
A8: Salgs- og leieinntekter | B8: 1
A9: Andre driftsinntekter | B9: 1
A10: Sum driftsinntekter | C10: =SUM(C5:C9) -> 0 | D10: =SUM(D5:D9) -> 0 | E10: =SUM(E5:E9) -> 0
A12: Driftskostnader
A13: Varekostnader
A14: Lønnskostnader | B14: 2
A15: Avskrivninger på varige driftsmidler og immaterielle eiendeler | B15: 3.4
A16: Nedskrivninger av varige driftsmidler og immaterielle eiendeler | B16: 3.4
A17: Andre driftskostnader | B17: 5
A18: Sum driftskostnader | C18: =SUM(C13:C17) -> 0 | D18: =SUM(D13:D17) -> 0 | E18: =SUM(E13:E17) -> 0
A20: Driftsresultat | C20: =C10-C18 -> 0 | D20: =D10-D18 -> 0 | E20: =E10-E18 -> 0
A22: Finansinntekter og finanskostnader
A23: Finansinntekter | B23: 6
A24: Finanskostnader | B24: 6
A25: Sum finansinntekter og finanskostnader | C25: =C23-C24 -> 0 | D25: =D23-D24 -> 0 | E25: =E23-E24 -> 0
A27: Resultat av periodens aktiviteter | C27: =C20+C25 -> 0 | D27: =D20+D25 -> 0 | E27: =E20+E25 -> 0
A29: Avregninger og disponeringer
A30: Avregning med statskassen (bruttobudsjetterte) | B30: 7
A31: Sum avregninger og disponeringer | C31: =SUM(C30:C30) -> 0 | D31: =SUM(D30:D30) -> 0 | E31: =SUM(E30:E30) -> 0
A33: Innkrevingsvirksomhet og andre overføringer til staten
A34: Avgifter og gebyrer direkte til statskassen | B34: 8
A35: Avregning med statskassen innkrevingsvirksomhet
A36: Sum innkrevingsvirksomhet og andre overføringer til staten | C36: =C34-C35 -> 0 | D36: =D34-D35 -> 0 | E36: =E34-E35 -> 0
A38: Tilskuddsforvaltning og andre overføringer fra staten
A39: Tilskudd til andre | B39: 9
A40: Avregning med statskassen tilskuddsforvaltning
A41: Sum tilskuddsforvaltning og andre overføringer fra staten | C41: =C39-C40 -> 0 | D41: =D39-D40 -> 0 | E41: =E39-E40 -> 0

Sheet Balanse - eiendeler
A1: Balanse
B3: Note | C3: =Resultatregnskap!C3 -> 46265 | D3: =Resultatregnskap!D3 -> 45900 | E3: =Resultatregnskap!E3 -> 46022
A4: EIENDELER
A6: A. Anleggsmidler
A8: I Immaterielle eiendeler
A9: Programvare og lignende rettigheter | B9: 3
A10: Immaterielle eiendeler under utførelse | B10: 3
A11: Sum immaterielle eiendeler | C11: =SUM(C9:C10) -> 0 | D11: =SUM(D9:D10) -> 0 | E11: =SUM(E9:E10) -> 0
A13: II Varige driftsmidler
A14: Tomter, bygninger og annen fast eiendom | B14: 4
A15: Maskiner og transportmidler | B15: 4
A16: Driftsløsøre, inventar, verktøy og lignende | B16: 4
A17: Anlegg under utførelse | B17: 4
A18: Infrastruktureiendeler | B18: 4
A19: Sum varige driftsmidler | C19: =SUM(C14:C18) -> 0 | D19: =SUM(D14:D18) -> 0 | E19: =SUM(E14:E18) -> 0
A21: III Finansielle anleggsmidler
A22: Investeringer i aksjer og andeler | B22: 10
A23: Obligasjoner
A24: Andre fordringer
A25: Sum finansielle anleggsmidler | C25: =SUM(C22:C24) -> 0 | D25: =SUM(D22:D24) -> 0 | E25: =SUM(E22:E24) -> 0
A27: Sum anleggsmidler | C27: =C11+C19+C25 -> 0 | D27: =D11+D19+D25 -> 0 | E27: =E11+E19+E25 -> 0
A29: B. Omløpsmidler
A31: I Beholdninger av varer og driftsmateriell
A32: Beholdninger av varer og driftsmateriell | B32: 11
A33: Sum beholdning av varer og driftsmateriell | C33: =SUM(C32:C32) -> 0 | D33: =SUM(D32:D32) -> 0 | E33: =SUM(E32:E32) -> 0
A35: II Fordringer
A36: Kundefordringer | B36: 12
A37: Opptjente, ikke fakturerte inntekter | B37: 13
A38: Andre fordringer | B38: 14
A39: Sum fordringer | C39: =SUM(C36:C38) -> 0 | D39: =SUM(D36:D38) -> 0 | E39: =SUM(E36:E38) -> 0
A41: III Bankinnskudd, kontanter og lignende
A42: Bankinnskudd | B42: 15
A43: Kontanter og lignende | B43: 15
A44: Sum bankinnskudd, kontanter og lignende | C44: =SUM(C42:C43) -> 0 | D44: =SUM(D42:D43) -> 0 | E44: =SUM(E42:E43) -> 0
A46: Sum omløpsmidler | C46: =C33+C39+C44 -> 0 | D46: =D33+D39+D44 -> 0 | E46: =E33+E39+E44 -> 0
A48: Sum eiendeler drift | C48: =C27+C46 -> 0 | D48: =D27+D46 -> 0 | E48: =E27+E46 -> 0
A50: C. Omløpsmidler ved innkrevingsvirksomhet og tilskuddsforvaltning
A52: I Fordringer ved innkrevingsvirksomhet og andre overføringer
A53: Fordringer ved innkrevingsvirksomhet og andre overføringer til staten | B53: 8
A54: Sum fordringer ved innkrevingsvirksomhet og andre overføringer | C54: =SUM(C53) -> 0 | D54: =SUM(D53) -> 0 | E54: =SUM(E53) -> 0
A56: II Fordringer og beholdninger ved tilskuddsforvaltning og andre overføringer
A57: Fordringer ved tilskuddsforvaltning og andre overføringer fra staten | B57: 9
A58: Beholdninger av driftsmateriell | B58: 9
A59: Sum fordringer og beholdninger ved tilskuddsforvaltning og andre overføringer | C59: =SUM(C58+C57) -> 0 | D59: =SUM(D58+D57) -> 0 | E59: =SUM(E58+E57) -> 0
A61: Sum omløpsmidler ved innkrevingsvirksomhet og tilskuddsforvaltning | C61: =C54+C59 -> 0 | D61: =D54+D59 -> 0 | E61: =E54+E59 -> 0
A63: Sum eiendeler | C63: =C48+C61 -> 0 | D63: =D48+D61 -> 0 | E63: =E48+E61 -> 0

Sheet Balanse - statens kap og gjeld
A1: Balanse
B3: Note | C3: =Resultatregnskap!C3 -> 46265 | D3: =Resultatregnskap!D3 -> 45900 | E3: =Resultatregnskap!E3 -> 46022
A4: STATENS KAPITAL OG GJELD
A6: D. Statens kapital
A8: I Virksomhetskapital
A9: Sum virksomhetskapital | C9: 0 | D9: 0 | E9: 0
A11: II Avregninger
A12: Avregnet med statskassen (bruttobudsjetterte) | B12: 7
A13: Sum avregninger | C13: =SUM(C12:C12) -> 0 | D13: =SUM(D12:D12) -> 0 | E13: =SUM(E12:E12) -> 0
A15: Sum statens kapital | C15: =C9+C13 -> 0 | D15: =D9+D13 -> 0 | E15: =E9+E13 -> 0
A17: E. Gjeld
A19: I Avsetning for langsiktige forpliktelser
A20: Avsetninger langsiktige forpliktelser
A21: Sum avsetning for langsiktige forpliktelser | C21: =SUM(C20) -> 0 | D21: =SUM(D20) -> 0 | E21: =SUM(E20) -> 0
A23: II Annen langsiktig gjeld
A24: Øvrig langsiktig gjeld
A25: Sum annen langsiktig gjeld | C25: =SUM(C24) -> 0 | D25: =SUM(D24) -> 0 | E25: =SUM(E24) -> 0
A27: III Kortsiktig gjeld
A28: Leverandørgjeld
A29: Skyldig skattetrekk og andre trekk
A30: Skyldige offentlige avgifter
A31: Avsatte feriepenger
A32: Mottatt forskuddsbetaling | B32: 13
A33: Annen kortsiktig gjeld | B33: 16
A34: Sum kortsiktig gjeld | C34: =SUM(C28:C33) -> 0 | D34: =SUM(D28:D33) -> 0 | E34: =SUM(E28:E33) -> 0
A36: Sum gjeld | C36: =C21+C25+C34 -> 0 | D36: =D21+D25+D34 -> 0 | E36: =E21+E25+E34 -> 0
A38: Sum statens kapital og gjeld drift | C38: =C15+C36 -> 0 | D38: =D15+D36 -> 0 | E38: =E15+E36 -> 0
A40: F. Gjeld ved tilskuddsforvaltning og innkrevingsvirksomhet
A42: I Gjeld ved tilskuddsforvaltning og andre overføringer
A43: Gjeld ved tilskuddsforvaltning og andre overføringer fra staten | B43: 9
A44: Sum gjeld ved tilskuddsforvaltning og andre overføringer | C44: =SUM(C43) -> 0 | D44: =SUM(D43) -> 0 | E44: =SUM(E43) -> 0
A46: II Gjeld ved innkrevingsvirksomhet og andre overføringer
A47: Gjeld ved innkrevingsvirksomhet og andre overføringer til staten | B47: 8
A48: Sum gjeld ved innkrevingsvirksomhet og andre overføringer | C48: =C47 -> 0 | D48: =D47 -> 0 | E48: =E47 -> 0
A50: Sum gjeld ved tilskuddsforvaltning og innkrevingsvirksomhet | C50: =C48+C44 -> 0 | D50: =D48+D44 -> 0 | E50: =E48+E44 -> 0
A52: Sum statens kapital og gjeld | C52: =C38+C50 -> 0 | D52: =D38+D50 -> 0 | E52: =E38+E50 -> 0

Sheet Note1
A1: Note 1 Driftsinntekter
B3: =Resultatregnskap!C3 -> 46265 | D3: =Resultatregnskap!D3 -> 45900 | E3: =Resultatregnskap!E3 -> 46022
A4: Inntekt fra bevilgninger*
A5: Inntekt fra bevilgninger | B5: 0 | D5: 0 | E5: 0
A7: Sum inntekt fra bevilgninger | B7: =SUM(B5:B6) -> 0 | D7: =SUM(D5:D6) -> 0 | E7: =SUM(E5:E6) -> 0
A16: Inntekt fra tilskudd og overføringer
A17: Tilskudd/overføring 1 | B17: 0 | D17: 0 | E17: 0
A18: Tilskudd/overføring 2 | B18: 0 | D18: 0 | E18: 0
A19: Tilskudd/overføring 3… | B19: 0 | D19: 0 | E19: 0
A21: Sum inntekt fra tilskudd og overføringer | B21: =SUM(B17:B19) -> 0 | D21: =SUM(D17:D19) -> 0 | E21: =SUM(E17:E19) -> 0
A23: Inntekt fra gebyrer
A24: Gebyrer 1 | B24: 0 | D24: 0 | E24: 0
A25: Gebyrer 2 | B25: 0 | D25: 0 | E25: 0
A26: Gebyrer 3… | B26: 0 | D26: 0 | E26: 0
A28: Sum inntekt fra gebyrer | B28: =SUM(B24:B27) -> 0 | D28: =SUM(D24:D27) -> 0 | E28: =SUM(E24:E27) -> 0
A30: Salgs- og leieinntekter
A31: Salgs- og leieinntekter 1 | B31: 0 | D31: 0 | E31: 0
A32: Salgs- og leieinntekter 2 | B32: 0 | D32: 0 | E32: 0
A33: Salgs- og leieinntekter 3… | B33: 0 | D33: 0 | E33: 0
A35: Sum salgs- og leieinntekter | B35: =SUM(B31:B34) -> 0 | D35: =SUM(D31:D34) -> 0 | E35: =SUM(E31:E34) -> 0
A37: Andre driftsinntekter
A38: Gevinst ved avgang anleggsmidler | B38: 0 | D38: 0 | E38: 0
A39: Andre inntekter 1 | B39: 0 | D39: 0 | E39: 0
A40: Andre inntekter 2… | B40: 0 | D40: 0 | E40: 0
A42: Sum andre driftsinntekter | B42: =SUM(B38:B41) -> 0 | D42: =SUM(D38:D41) -> 0 | E42: =SUM(E38:E41) -> 0
A44: Sum driftsinntekter | B44: =B7+B28+B21+B35+B42 -> 0 | D44: =D7+D28+D21+D35+D42 -> 0 | E44: =E7+E28+E21+E35+E42 -> 0

Sheet Note2
A1: Note 2 Lønnskostnader
B3: =Resultatregnskap!C3 -> 46265 | D3: =Resultatregnskap!D3 -> 45900 | E3: =Resultatregnskap!E3 -> 46022
A5: Lønn | B5: 0 | D5: 0 | E5: 0
A6: Feriepenger | B6: 0 | D6: 0 | E6: 0
A7: Arbeidsgiveravgift | B7: 0 | D7: 0 | E7: 0
A8: Pensjonskostnader* | B8: 0 | D8: 0 | E8: 0
A9: Lønn balanseført ved egenutvikling av anleggsmidler (-)** | B9: 0 | D9: 0 | E9: 0
A10: Sykepenger og andre refusjoner (-) | B10: 0 | D10: 0 | E10: 0
A11: Andre ytelser | B11: 0 | D11: 0 | E11: 0
A12: Sum lønnskostnader | B12: =SUM(B5:B11) -> 0 | D12: =SUM(D5:D11) -> 0 | E12: =SUM(E5:E11) -> 0
A14: Antall utførte årsverk hittil i år: | B14: 0 | D14: 0 | E14: 0

Sheet Note3
A1: Note 3 Immaterielle eiendeler
B3: Programvare og lignende rettigheter | C3: Immaterielle eiendeler under utførelse | D3: Sum
A5: Anskaffelseskost 01.01.2026 | B5: 0 | C5: 0 | D5: =SUM(B5:C5) -> 0
A6: Tilgang i 2026 | B6: 0 | C6: 0 | D6: =SUM(B6:C6) -> 0
A7: Avgang anskaffelseskost i 2026 (-) | B7: 0 | C7: 0 | D7: =SUM(B7:C7) -> 0
A8: Fra immaterielle eiendeler under utførelse til annen gruppe i 2026 | B8: 0 | C8: 0 | D8: =SUM(B8:C8) -> 0
A9: Anskaffelseskost 31.08.2026 | B9: =SUM(B5:B8) -> 0 | C9: =SUM(C5:C8) -> 0 | D9: =SUM(D5:D8) -> 0
A10: Akkumulerte nedskrivninger 01.01.2026 | B10: 0 | C10: 0 | D10: =SUM(B10:C10) -> 0
A11: Nedskrivninger i 2026 | B11: 0 | C11: 0 | D11: =SUM(B11:C11) -> 0
A12: Akkumulerte avskrivninger 01.01.2026 | B12: 0 | C12: 0 | D12: =SUM(B12:C12) -> 0
A13: Ordinære avskrivninger i 2026 | B13: 0 | C13: 0 | D13: =SUM(B13:C13) -> 0
A14: Akkumulerte avskrivninger avgang i 2026 (-) | B14: 0 | C14: 0 | D14: =SUM(B14:C14) -> 0
A15: Balanseført verdi 31.08.2026 | B15: =B9-B10-B11-B12-B13-B14 -> 0 | C15: =C9-C10-C11-C12-C13-C14 -> 0 | D15: =D9-D10-D11-D12-D13-D14 -> 0
A17: Avskrivningssatser (levetider) | B17: 5 år / lineært | C17: Ingen avskrivning
A19: Avhendelse av immaterielle eiendeler i 2026:
A20: Salgssum ved avgang anleggsmidler | D20: =SUM(B20:C20) -> 0
A21: - Bokført verdi avhendede anleggsmidler | D21: =SUM(B21:C21) -> 0
A22: = Regnskapsmessig gevinst/tap | B22: =SUM(B20:B21) -> 0 | C22: =SUM(C20:C21) -> 0 | D22: =SUM(D20:D21) -> 0

Sheet Note4
A1: Note 4 Varige driftsmidler
B3: Tomter | C3: Bygninger og annen fast eiendom | D3: Maskiner og transportmidler | E3: Driftsløsøre, inventar, verktøy o.l. | F3: Anlegg under utførelse | G3: Infrastruktur- eiendeler | H3: Sum
A5: Anskaffelseskost 01.01.2026 | B5: 0 | C5: 0 | D5: 0 | E5: 0 | F5: 0 | G5: 0 | H5: =SUM(B5:G5) -> 0
A6: Tilgang i 2026 | B6: 0 | C6: 0 | D6: 0 | E6: 0 | F6: 0 | G6: 0 | H6: =SUM(B6:G6) -> 0
A7: Avgang anskaffelseskost i 2026 (-) | B7: 0 | C7: 0 | D7: 0 | E7: 0 | F7: 0 | G7: 0 | H7: =SUM(B7:G7) -> 0
A8: Fra anlegg under utførelse til annen gruppe i 2026 | B8: 0 | C8: 0 | D8: 0 | E8: 0 | F8: 0 | G8: 0 | H8: =SUM(B8:G8) -> 0
A9: Anskaffelseskost 31.08.2026 | B9: =SUM(B5:B8) -> 0 | C9: =SUM(C5:C8) -> 0 | D9: =SUM(D5:D8) -> 0 | E9: =SUM(E5:E8) -> 0 | F9: =SUM(F5:F8) -> 0 | G9: =SUM(G5:G8) -> 0 | H9: =SUM(H5:H8) -> 0
A10: Akkumulerte nedskrivninger 01.01.2026 | B10: 0 | C10: 0 | D10: 0 | E10: 0 | F10: 0 | G10: 0 | H10: =SUM(B10:G10) -> 0
A11: Nedskrivninger i 2026 | B11: 0 | C11: 0 | D11: 0 | E11: 0 | F11: 0 | G11: 0 | H11: =SUM(B11:G11) -> 0
A12: Akkumulerte avskrivninger 01.01.2026 | B12: 0 | C12: 0 | D12: 0 | E12: 0 | F12: 0 | G12: 0 | H12: =SUM(B12:G12) -> 0
A13: Ordinære avskrivninger i 2026 | B13: 0 | C13: 0 | D13: 0 | E13: 0 | F13: 0 | G13: 0 | H13: =SUM(B13:G13) -> 0
A14: Akkumulerte avskrivninger avgang i 2026 (-) | B14: 0 | C14: 0 | D14: 0 | E14: 0 | F14: 0 | G14: 0 | H14: =SUM(B14:G14) -> 0
A15: Balanseført verdi 31.08.2026 | B15: =B9-B10-B11-B12-B13-B14 -> 0 | C15: =C9-C10-C11-C12-C13-C14 -> 0 | D15: =D9-D10-D11-D12-D13-D14 -> 0 | E15: =E9-E10-E11-E12-E13-E14 -> 0 | F15: =F9-F10-F11-F12-F13-F14 -> 0 | G15: =G9-G10-G11-G12-G13-G14 -> 0 | H15: =H9-H10-H11-H12-H13-H14 -> 0
A17: Avskrivningssatser (levetider) | B17: Ingen avskrivning | C17: 10-60 år dekomponert lineært | D17: 3-15 år lineært | E17: 3-15 år lineært | F17: Ingen avskrivning | G17: Virksomhets-spesifikt
A19: Avhendelse av varige driftsmidler i 2026:
A20: Salgssum ved avgang anleggsmidler | H20: =SUM(B20:G20) -> 0
A21: - Bokført verdi avhendede anleggsmidler | H21: =SUM(B21:G21) -> 0
A22: = Regnskapsmessig gevinst/tap | B22: =SUM(B20:B21) -> 0 | C22: =SUM(C20:C21) -> 0 | D22: =SUM(D20:D21) -> 0 | E22: =SUM(E20:E21) -> 0 | F22: =SUM(F20:F21) -> 0 | G22: =SUM(G20:G21) -> 0 | H22: =SUM(H20:H21) -> 0

Sheet Note5
A1: Note 5 Andre driftskostnader
B3: =Resultatregnskap!C3 -> 46265 | D3: =+Resultatregnskap!D3 -> 45900 | E3: =+Resultatregnskap!E3 -> 46022
A5: Husleie | B5: 0 | D5: 0 | E5: 0
A6: Vedlikehold egne bygg og anlegg | B6: 0 | D6: 0 | E6: 0
A7: Vedlikehold og ombygging av leide lokaler | B7: 0 | D7: 0 | E7: 0
A8: Andre kostnader til drift av eiendom og lokaler | B8: 0 | D8: 0 | E8: 0
A9: Leie av maskiner, inventar og lignende | B9: 0 | D9: 0 | E9: 0
A10: Mindre utstyrsanskaffelser | B10: 0 | D10: 0 | E10: 0
A11: Reparasjon og vedlikehold av maskiner, utstyr mv. | B11: 0 | D11: 0 | E11: 0
A12: Kjøp av konsulenttjenester | B12: 0 | D12: 0 | E12: 0
A13: Kjøp av andre fremmede tjenester | B13: 0 | D13: 0 | E13: 0
A14: Reiser og diett | B14: 0 | D14: 0 | E14: 0
A15: Tap og lignende | B15: 0 | D15: 0 | E15: 0
A16: Øvrige driftskostnader | B16: 0 | D16: 0 | E16: 0
A17: Sum andre driftskostnader | B17: =SUM(B5:B16) -> 0 | D17: =SUM(D5:D16) -> 0 | E17: =SUM(E5:E16) -> 0
A20: Tilleggsinformasjon om operasjonelle leieavtaler
A21: Gjenværende varighet | B21: Type eiendel
B22: Immaterielle eiendeler | C22: Tomter, bygninger og annen fast eiendom | D22: Maskiner og transportmidler | E22: Driftsløsøre, inventar, verktøy og lignende | F22: Infrastruktureien-deler | G22: Sum
A23: Varighet inntil 1 år | G23: =SUM(B23:F23) -> 0
A24: Varighet 1-5 år | G24: =SUM(B24:F24) -> 0
A25: Varighet over 5 år | G25: =SUM(B25:F25) -> 0
A26: Kostnadsført leiebetaling for perioden | B26: =SUM(B23:B25) -> 0 | C26: =SUM(C23:C25) -> 0 | D26: =SUM(D23:D25) -> 0 | E26: =SUM(E23:E25) -> 0 | F26: =SUM(F23:F25) -> 0 | G26: =SUM(G23:G25) -> 0
A32: Eksempel på utfylling av tilleggsinformasjon (Denne må slettes ved presentasjon av regnskapet)
A34: Tilleggsinformasjon om operasjonelle leieavtaler
A35: Gjenværende varighet | B35: Type eiendel
B36: Immaterielle eiendeler | C36: Tomter, bygninger og annen fast eiendom | D36: Maskiner og transportmidler | E36: Driftsløsøre, inventar, verktøy og lignende | F36: Infrastruktureien-deler | G36: Sum
A37: Varighet inntil 1 år | E37: 100000 | G37: =SUM(B37:F37) -> 100000
A38: Varighet 1-5 år | C38: 400000 | G38: =SUM(B38:F38) -> 400000
A39: Varighet over 5 år | G39: =SUM(B39:F39) -> 0
A40: Kostnadsført leiebetaling for perioden | B40: =SUM(B37:B39) -> 0 | C40: =SUM(C37:C39) -> 400000 | D40: =SUM(D37:D39) -> 0 | E40: =SUM(E37:E39) -> 100000 | F40: =SUM(F37:F39) -> 0 | G40: =SUM(G37:G39) -> 500000

Sheet Note6
A1: Note 6 Finansinntekter og finanskostnader
B3: =Resultatregnskap!C3 -> 46265 | D3: =Resultatregnskap!D3 -> 45900 | E3: =Resultatregnskap!E3 -> 46022
A4: Finansinntekter
A5: Renteinntekter | B5: 0 | D5: 0 | E5: 0
A6: Valutagevinst (agio) | B6: 0 | D6: 0 | E6: 0
A7: Utbytte fra selskaper | B7: 0 | D7: 0 | E7: 0
A8: Annen finansinntekt | B8: 0 | D8: 0 | E8: 0
A9: Sum finansinntekter | B9: =SUM(B5:B8) -> 0 | D9: =SUM(D5:D8) -> 0 | E9: =SUM(E5:E8) -> 0
A11: Finanskostnader
A12: Rentekostnad | B12: 0 | D12: 0 | E12: 0
A13: Nedskrivning av aksjer | B13: 0 | D13: 0 | E13: 0
A14: Valutatap (disagio) | B14: 0 | D14: 0 | E14: 0
A15: Annen finanskostnad | B15: 0 | D15: 0 | E15: 0
A16: Sum finanskostnader | B16: =SUM(B12:B15) -> 0 | D16: =SUM(D12:D15) -> 0 | E16: =SUM(E12:E15) -> 0

Sheet Note7 A 
A1: Note 7 Sammenheng mellom avregnet med statskassen og mellomværende med statskassen (bruttobudsjetterte virksomheter)
A4: A) Forklaring til at periodens resultat ikke er lik endring i avregnet med statskassen i balansen (kongruensavvik)
C6: =+Resultatregnskap!C3 -> 46265 | D6: =+Resultatregnskap!E3 -> 46022 | E6: Endring*
A7: Avregnet med statskassen i balansen | E7: =D7-C7 -> 0
A16: Endring i avregnet med statskassen
A17: Konsernkontoer i Norges Bank
B18: - Konsernkonto utbetaling | D18: 0
B19: + Konsernkonto innbetaling | D19: 0
B20: Netto trekk konsernkonto | D20: =SUM(D18:D19) -> 0
A21: Innbetalinger og utbetalinger som ikke inngår i virksomhetens drift (er gjennomstrømningsposter)
B22: - Innbetaling innkrevingsvirksomhet og andre overføringer | D22: 0
B23: + Utbetaling tilskuddsforvaltning og andre overføringer | D23: 0
A24: Bokføringer som ikke går over bankkonto, men direkte mot avregning med statskassen
B25: + Inntektsført fra bevilgning (underkonto 1991) | D25: 0
B26: - Gruppeliv/arbeidsgiveravgift (underkonto 1985 og 1986) | D26: 0
B27: + Nettoordning, statlig betalt merverdiavgift (underkonto 1987) | D27: 0
A28: Andre avstemmingsposter
B29: Spesifikasjon av andre avstemmingsposter | D29: 0
A30: Forskjell mellom resultatført og netto trekk på konsernkonto | D30: =SUM(D20:D29) -> 0
A31: Resultat av periodens aktiviteter før avregning med statskassen | D31: 0
A32: Sum endring i avregnet med statskassen* | D32: =SUM(D30:D31) -> 0
A33: *Sum endring i avregnet med statskassen skal stemme med periodens endring ovenfor.

Sheet Note7 B 
A1: Note 7 Sammenheng mellom avregnet med statskassen og mellomværende med statskassen (bruttobudsjetterte virksomheter)
A4: B) Forskjellen mellom avregnet med statskassen og mellomværende med statskassen
C5: =+Resultatregnskap!C3 -> 46265 | D5: =+Resultatregnskap!C3 -> 46265
C6: Spesifisering av bokført avregning med statskassen | D6: Spesifisering av rapportert mellomværende med statskassen | E6: Forskjell
A7: Immaterielle eiendeler og varige driftsmidler
B8: Immaterielle eiendeler | C8: 0 | D8: 0 | E8: =C8-D8 -> 0
B9: Varige driftsmidler | C9: 0 | D9: 0 | E9: =C9-D9 -> 0
B10: Sum | C10: =SUM(C8:C9) -> 0 | D10: =SUM(D8:D9) -> 0 | E10: =SUM(E8:E9) -> 0
A11: Finansielle anleggsmidler
B12: Investeringer i aksjer og andeler | C12: 0 | D12: 0 | E12: =C12-D12 -> 0
B13: Obligasjoner | C13: 0 | D13: 0 | E13: =C13-D13 -> 0
B14: Andre fordringer | C14: 0 | D14: 0 | E14: =C14-D14 -> 0
B15: Sum | C15: =SUM(C12:C14) -> 0 | D15: =SUM(D12:D14) -> 0 | E15: =SUM(E12:E14) -> 0
A16: Omløpsmidler
B17: Beholdninger av varer og driftsmateriell | C17: 0 | D17: 0 | E17: =C17-D17 -> 0
B18: Kundefordringer | C18: 0 | D18: 0 | E18: =C18-D18 -> 0
B19: Opptjente, ikke fakturerte inntekter | C19: 0 | D19: 0 | E19: =C19-D19 -> 0
B20: Andre fordringer | C20: 0 | D20: 0 | E20: =C20-D20 -> 0
B21: Bankinnskudd, kontanter og lignende | C21: 0 | D21: 0 | E21: =C21-D21 -> 0
B22: Fordringer vedrørende innkrevingsvirksomhet og andre overføringer til staten | C22: 0 | D22: 0 | E22: =C22-D22 -> 0
B23: Sum | C23: =SUM(C17:C22) -> 0 | D23: =SUM(D17:D22) -> 0 | E23: =SUM(E17:E22) -> 0
A24: Langsiktige forpliktelser og gjeld
B25: Avsetninger langsiktige forpliktelser | C25: 0 | D25: 0 | E25: =C25-D25 -> 0
B26: Øvrig langsiktig gjeld | C26: 0 | D26: 0 | E26: =C26-D26 -> 0
B27: Sum | C27: =SUM(C25:C26) -> 0 | D27: =SUM(D25:D26) -> 0 | E27: =SUM(E25:E26) -> 0
A28: Kortsiktig gjeld
B29: Leverandørgjeld | C29: 0 | D29: 0 | E29: =C29-D29 -> 0
B30: Skyldig skattetrekk og andre trekk | C30: 0 | D30: 0 | E30: =C30-D30 -> 0
B31: Skyldige offentlige avgifter | C31: 0 | D31: 0 | E31: =C31-D31 -> 0
B32: Avsatte feriepenger | C32: 0 | D32: 0 | E32: =C32-D32 -> 0
B33: Mottatt forskuddsbetaling | C33: 0 | D33: 0 | E33: =C33-D33 -> 0
B34: Annen gjeld til ansatte | C34: 0 | D34: 0 | E34: =C34-D34 -> 0
B35: Avsatt pensjonspremie til SPK, arbeidsgiverandel | C35: 0 | D35: 0 | E35: =C35-D35 -> 0
B36: Annen kortsiktig gjeld | C36: 0 | D36: 0 | E36: =C36-D36 -> 0
B37: Gjeld vedrørende tilskuddsforvaltning og andre overføringer fra staten | C37: 0 | D37: 0 | E37: =C37-D37 -> 0
B38: Sum | C38: =SUM(C29:C37) -> 0 | D38: =SUM(D29:D37) -> 0 | E38: =SUM(E29:E37) -> 0
A40: Sum | C40: =C10+C15+C23+C27+C38 -> 0 | D40: =D10+D15+D23+D27+D38 -> 0 | E40: =E10+E15+E23+E27+E38 -> 0

Sheet Note 8 
A1: Note 8 Innkrevingsvirksomhet og andre overføringer til staten
A3: Alternativ a) For virksomheter som presenterer innkrevingsvirksomhet etter kontantprinsippet
A4: Hvis presentasjonen er etter samme prinsipper som er bokført, må "Alternativ a)" slettes. Denne teksten skal slettes
A5: uavhengig av hvilken prinsipp man bruker
B8: =+Resultatregnskap!C3 -> 46265 | D8: =+Resultatregnskap!D3 -> 45900 | E8: =+Resultatregnskap!E3 -> 46022
A10: Avgift 1 | B10: 0 | D10: 0 | E10: 0
A11: Avgift 2 | B11: 0 | D11: 0 | E11: 0
A12: Avgift 3… | B12: 0 | D12: 0 | E12: 0
A13: Sum avgifter og gebyrer direkte til statskassen | B13: =SUM(B10:B12) -> 0 | D13: =SUM(D10:D12) -> 0 | E13: =SUM(E10:E12) -> 0
A17: Alternativ b) For virksomheter som presenterer innkrevingsvirksomhet etter samme prinsipper som de er bokført etter
A18: Hvis presentasjonen er etter kontantprinsippet må "Alternativ b)" slettes. Denne teksten skal slettes uavhengig av
A19: hvilket prinsipp man bruker
A21: Avgifter og gebyrer direkte til statskassen
B22: =+Resultatregnskap!C3 -> 46265 | D22: =+Resultatregnskap!D3 -> 45900 | E22: =+Resultatregnskap!E3 -> 46022
A24: Avgift 1 | B24: 0 | D24: 0 | E24: 0
A25: Avgift 2 | B25: 0 | D25: 0 | E25: 0
A26: Avgift 3… | B26: 0 | D26: 0 | E26: 0
A27: Sum avgifter og gebyrer direkte til statskassen | B27: =SUM(B24:B26) -> 0 | D27: =SUM(D24:D26) -> 0 | E27: =SUM(E24:E26) -> 0
A29: Følgende avsnitt kan være relevant, virksomheten sletter tabeller og tekst som ikke er relevant:
A31: Fordringer ved innkrevingsvirksomhet og andre overføringer
B32: =+Resultatregnskap!C3 -> 46265 | D32: =+Resultatregnskap!D3 -> 45900 | E32: =+Resultatregnskap!E3 -> 46022
A33: Fordringer til pålydende | B33: 0 | D33: 0 | E33: 0
A34: Avsatt til forventet tap (-) | B34: 0 | D34: 0 | E34: 0
A35: Sum fordringer ved innkrevingsvirksomhet og andre overføringer til staten | B35: =SUM(B33:B34) -> 0 | D35: =SUM(D33:D34) -> 0 | E35: =SUM(E33:E34) -> 0
A38: Følgende avsnitt kan være relevant, virksomheten sletter avsnitt/tekst som ikke er relevant:
A40: Gjeld ved innkrevingsvirksomhet og andre overføringer til staten
A41: Her gis eventuelt en tekstlig utdyping.

Sheet Note 9 
A1: Note 9 Tilskuddsforvaltning og andre overføringer fra staten
A3: Alternativ a) For virksomheter som presenterer innkrevingsvirksomhet etter kontantprinsippet
A4: Hvis presentasjon etter samme prinsipper som de er bokført, må "Alternativ a)" slettes. Denne teksten skal slettes
A5: uavhengig av hvilket prinsipp man bruker
A7: Tilskudd til andre
B8: =+Resultatregnskap!C3 -> 46265 | D8: =+Resultatregnskap!D3 -> 45900 | E8: =+Resultatregnskap!E3 -> 46022
A10: Tilskudd til 1 | B10: 0 | D10: 0 | E10: 0
A11: Tilskudd til 2 | B11: 0 | D11: 0 | E11: 0
A12: Tilskudd til 3… | B12: 0 | D12: 0 | E12: 0
A13: Sum tilskudd til andre | B13: =SUM(B10:B12) -> 0 | D13: =SUM(D10:D12) -> 0 | E13: =SUM(E10:E12) -> 0
A16: Alternativ b) For virksomheter som presenterer innkrevingsvirksomhet etter samme prinsipper som de er bokført etter
A17: Hvis presentasjon etter kontantprinsippet må "Alternativ b)" slettes. Denne teksten skal slettes uavhengig av
A18: hvilket prinsipp man bruker.
A20: Tilskudd til andre
B21: =+Resultatregnskap!C3 -> 46265 | D21: =+Resultatregnskap!D3 -> 45900 | E21: =+Resultatregnskap!E3 -> 46022
A23: Tilskudd til 1 | B23: 0 | D23: 0 | E23: 0
A24: Tilskudd til 2 | B24: 0 | D24: 0 | E24: 0
A25: Tilskudd til 3… | B25: 0 | D25: 0 | E25: 0
A26: Sum tilskudd til andre | B26: =SUM(B23:B25) -> 0 | D26: =SUM(D23:D25) -> 0 | E26: =SUM(E23:E25) -> 0
A29: Følgende avsnitt kan være relevante, virksomheten sletter tabeller og tekst som ikke er relevant:
A31: Fordringer ved tilskuddsforvaltning og andre overføringer fra staten
B32: =+Resultatregnskap!C3 -> 46265 | D32: =+Resultatregnskap!D3 -> 45900 | E32: =+Resultatregnskap!E3 -> 46022
A33: Fordringer til pålydende | B33: 0 | D33: 0 | E33: 0
A34: Avsatt til forventet tap (-) | B34: 0 | D34: 0 | E34: 0
A35: Sum fordringer vedrørende tilskuddsforvaltning og andre overføringer | B35: =SUM(B33:B34) -> 0 | D35: =SUM(D33:D34) -> 0 | E35: =SUM(E33:E34) -> 0
A38: Gjeld ved tilskuddsforvaltning og andre overføringer fra staten
A39: Her gis eventuelt en tekstlig utdyping.
A41: Beholdning av driftsmateriell ved tilskuddsforvaltning
A42: Her gis eventuelt en tekstlig utdyping.

Sheet Note10
A1: Note 10 Investeringer i aksjer og andeler
A3: Aksjer | B3: Ervervsdato | C3: Antall aksjer | D3: Eierandel | E3: Stemmeandel | F3: Resultat for selskapet i 2025 | G3: Balanseført egenkapital i selskapet (31.12.25) | H3: Balanseført verdi kapitalregnskapet | I3: Balanseført verdi virksomhets-regnskapet
A4: Selskap 1 | D4: 0 | E4: 0 | F4: 0 | G4: 0 | H4: 0 | I4: 0
A5: Selskap 2 | D5: 0 | E5: 0 | F5: 0 | G5: 0 | H5: 0 | I5: 0
A6: Selskap 3… | D6: 0 | E6: 0 | F6: 0 | G6: 0 | H6: 0 | I6: 0
A7: Balanseført verdi 31.08.2026 | H7: =SUM(H4:H6) -> 0 | I7: =SUM(I4:I6) -> 0

Sheet Note11
A1: Note 11 Beholdninger av varer og driftsmateriell
B3: =Resultatregnskap!C3 -> 46265 | D3: =Resultatregnskap!D3 -> 45900 | E3: =Resultatregnskap!E3 -> 46022
A4: Anskaffelseskost
A5: Råvarer og innkjøpte halvfabrikata | B5: 0 | D5: 0 | E5: 0
A6: Varer under tilvirkning | B6: 0 | D6: 0 | E6: 0
A7: Ferdige egentilvirkede varer og driftsmateriell | B7: 0 | D7: 0 | E7: 0
A8: Innkjøpte varer (ferdigvarer) og driftsmateriell | B8: 0 | D8: 0 | E8: 0
A9: Sum anskaffelseskost | B9: =SUM(B5:B8) -> 0 | D9: =SUM(D5:D8) -> 0 | E9: =SUM(E5:E8) -> 0
A11: Ukurans
A12: Ukurans i råvarer og innkjøpte halvfabrikata | B12: 0 | D12: 0 | E12: 0
A13: Ukurans i varer under tilvirkning | B13: 0 | D13: 0 | E13: 0
A14: Ukurans i ferdige egentilvirkede varer | B14: 0 | D14: 0 | E14: 0
A15: Ukurans i innkøpte varer (ferdigvarer) | B15: 0 | D15: 0 | E15: 0
A16: Nedskrivning av driftsmateriell | B16: 0 | D16: 0 | E16: 0
A17: Sum ukurans | B17: =SUM(B12:B16) -> 0 | D17: =SUM(D12:D16) -> 0 | E17: =SUM(E12:E16) -> 0
A19: Sum beholdninger av varer og driftsmateriell | B19: =B9-B17 -> 0 | D19: =D9-D17 -> 0 | E19: =E9-E17 -> 0

Sheet Note12
A1: Note 12 Kundefordringer
B3: =Resultatregnskap!C3 -> 46265 | D3: =Resultatregnskap!D3 -> 45900 | E3: =Resultatregnskap!E3 -> 46022
A5: Kundefordringer til pålydende | B5: 0 | D5: 0 | E5: 0
A6: Avsatt til forventet tap (-) | B6: 0 | D6: 0 | E6: 0
A7: Sum kundefordringer | B7: =SUM(B5:B6) -> 0 | D7: =SUM(D5:D6) -> 0 | E7: =SUM(E5:E6) -> 0

Sheet Note13
A1: Note 13 Opptjente, ikke fakturerte inntekter / Mottatt forskuddsbetaling
A3: Opptjente, ikke fakturerte inntekter (fordring)
B4: =Resultatregnskap!C3 -> 46265 | D4: =Resultatregnskap!D3 -> 45900 | E4: =Resultatregnskap!E3 -> 46022
A6: Aktivitet 1 | B6: 0 | D6: 0 | E6: 0
A7: Aktivitet 2 | B7: 0 | D7: 0 | E7: 0
A8: Aktivitet 3… | B8: 0 | D8: 0 | E8: 0
A9: Sum opptjente, ikke fakturerte inntekter | B9: =SUM(B6:B8) -> 0 | D9: =SUM(D6:D8) -> 0 | E9: =SUM(E6:E8) -> 0
A11: Mottatt forskuddsbetaling (gjeld)
B12: =B4 -> 46265 | D12: =D4 -> 45900 | E12: =E4 -> 46022
A14: Aktivitet 1 | B14: 0 | D14: 0 | E14: 0
A15: Aktivitet 2 | B15: 0 | D15: 0 | E15: 0
A16: Aktivitet 3… | B16: 0 | D16: 0 | E16: 0
A17: Sum mottatt forskuddsbetaling | B17: =SUM(B14:B16) -> 0 | D17: =SUM(D14:D16) -> 0 | E17: =SUM(E14:E16) -> 0

Sheet Note14
A1: Note 14 Andre kortsiktige fordringer
B3: =Resultatregnskap!C3 -> 46265 | D3: =Resultatregnskap!D3 -> 45900 | E3: =Resultatregnskap!E3 -> 46022
A5: Forskuddsbetalt lønn | B5: 0 | D5: 0 | E5: 0
A6: Reiseforskudd | B6: 0 | D6: 0 | E6: 0
A7: Personallån | B7: 0 | D7: 0 | E7: 0
A8: Andre fordringer på ansatte | B8: 0 | D8: 0 | E8: 0
A9: Forskuddsbetalt leie | B9: 0 | D9: 0 | E9: 0
A10: Andre forskuddsbetalte kostnader | B10: 0 | D10: 0 | E10: 0
A11: Andre fordringer | B11: 0 | D11: 0 | E11: 0
A12: Sum andre fordringer | B12: =SUM(B5:B11) -> 0 | D12: =SUM(D5:D11) -> 0 | E12: =SUM(E5:E11) -> 0

Sheet Note15
A1: Note 15 Bankinnskudd, kontanter og lignende
B3: =Resultatregnskap!C3 -> 46265 | D3: =Resultatregnskap!D3 -> 45900 | E3: =Resultatregnskap!E3 -> 46022
A5: Øvrige bankkontoer (utenfor statens konsernkontoordning) | B5: 0 | D5: 0 | E5: 0
A6: Kontantbeholdninger | B6: 0 | D6: 0 | E6: 0
A7: Sum bankinnskudd, kontanter og lignende | B7: =SUM(B5:B6) -> 0 | D7: =SUM(D5:D6) -> 0 | E7: =SUM(E5:E6) -> 0

Sheet Note16
A1: Note 16 Annen kortsiktig gjeld
B3: =Resultatregnskap!C3 -> 46265 | D3: =Resultatregnskap!D3 -> 45900 | E3: =Resultatregnskap!E3 -> 46022
A5: Skyldig lønn | B5: 0 | D5: 0 | E5: 0
A6: Annen gjeld til ansatte | B6: 0 | D6: 0 | E6: 0
A7: Påløpte kostnader | B7: 0 | D7: 0 | E7: 0
A8: Avstemmingsdifferanser ved rapportering til statsregnskapet | B8: 0 | D8: 0 | E8: 0
A9: Avsatt pensjonspremie til SPK, arbeidsgiverandel | B9: 0 | D9: 0 | E9: 0
A10: Annen kortsiktig gjeld | B10: 0 | D10: 0 | E10: 0
A11: Sum annen kortsiktig gjeld | B11: =SUM(B5:B10) -> 0 | D11: =SUM(D5:D10) -> 0 | E11: =SUM(E5:E10) -> 0
